BEGIN:VCALENDAR
VERSION:2.0
PRODID:-//FeedMore WNY - ECPv6.4.0//NONSGML v1.0//EN
CALSCALE:GREGORIAN
METHOD:PUBLISH
X-WR-CALNAME:FeedMore WNY
X-ORIGINAL-URL:https://www.feedmorewny.org
X-WR-CALDESC:Events for FeedMore WNY
REFRESH-INTERVAL;VALUE=DURATION:PT1H
X-Robots-Tag:noindex
X-PUBLISHED-TTL:PT1H
BEGIN:VTIMEZONE
TZID:America/New_York
BEGIN:DAYLIGHT
TZOFFSETFROM:-0500
TZOFFSETTO:-0400
TZNAME:EDT
DTSTART:20210314T070000
END:DAYLIGHT
BEGIN:STANDARD
TZOFFSETFROM:-0400
TZOFFSETTO:-0500
TZNAME:EST
DTSTART:20211107T060000
END:STANDARD
END:VTIMEZONE
BEGIN:VEVENT
DTSTART;VALUE=DATE:20211008
DTEND;VALUE=DATE:20211103
DTSTAMP:20260425T154358
CREATED:20211101T154148Z
LAST-MODIFIED:20211101T154148Z
UID:17301-1633651200-1635897599@www.feedmorewny.org
SUMMARY:3&2 Baseball Food Drive
DESCRIPTION:The 3&2 Baseball Club is hosting a food drive at their Tonawanda location. Support FeedMore WNY’s programs and services by making a donation.
URL:https://www.feedmorewny.org/event/32-baseball-food-drive-2021/
LOCATION:3&2 Baseball Club\, 77 Oriskany Dr Suite C\, Tonawanda\, NY\, 14150\, United States
CATEGORIES:Food Drive
END:VEVENT
END:VCALENDAR