BEGIN:VCALENDAR
VERSION:2.0
PRODID:-//FeedMore WNY - ECPv6.4.0//NONSGML v1.0//EN
CALSCALE:GREGORIAN
METHOD:PUBLISH
X-WR-CALNAME:FeedMore WNY
X-ORIGINAL-URL:https://www.feedmorewny.org
X-WR-CALDESC:Events for FeedMore WNY
REFRESH-INTERVAL;VALUE=DURATION:PT1H
X-Robots-Tag:noindex
X-PUBLISHED-TTL:PT1H
BEGIN:VTIMEZONE
TZID:America/New_York
BEGIN:DAYLIGHT
TZOFFSETFROM:-0500
TZOFFSETTO:-0400
TZNAME:EDT
DTSTART:20210314T070000
END:DAYLIGHT
BEGIN:STANDARD
TZOFFSETFROM:-0400
TZOFFSETTO:-0500
TZNAME:EST
DTSTART:20211107T060000
END:STANDARD
END:VTIMEZONE
BEGIN:VEVENT
DTSTART;TZID=America/New_York:20211001T180000
DTEND;TZID=America/New_York:20211001T210000
DTSTAMP:20260422T224851
CREATED:20210907T174008Z
LAST-MODIFIED:20210910T142520Z
UID:16664-1633111200-1633122000@www.feedmorewny.org
SUMMARY:FeedMore for $40 - First Friday Gallery Walk
DESCRIPTION:Local artist Barbara Baird has created 100 original works of art on used styrofoam and will be selling each painting for $40. All proceeds will support FeedMore WNY’s food programs. Browse from a selection of one-of-a-kind paintings as you stroll through Allentown’s First Friday Gallery Walk. \n  \nAllentown’s gallery walk\, known as “First Fridays”\, is one of the most popular monthly events in the city of Buffalo. Growing from just a handful of galleries to dozens of venues in and adjacent to Allentown\, on the first Friday of each month from 6 to 9 pm\, Allentown art galleries\, performance artists\, musicians\, restaurants\, retailers\, and more come together to create a rich cultural attraction. Select galleries Downtown and in the Elmwood Village also participate in Allentown First Fridays.
URL:https://www.feedmorewny.org/event/feedmore-for-40-first-friday-gallery-walk/
LOCATION:Pine Apple Company\, 65 Allen Street\, Buffalo\, 14202
CATEGORIES:Fundraiser
END:VEVENT
BEGIN:VEVENT
DTSTART;TZID=America/New_York:20211002T110000
DTEND;TZID=America/New_York:20211002T150000
DTSTAMP:20260422T224851
CREATED:20210907T174008Z
LAST-MODIFIED:20210907T174008Z
UID:16615-1633172400-1633186800@www.feedmorewny.org
SUMMARY:Empty Bowls Fundraiser by the Chautauqua Area Potters
DESCRIPTION:The Chautauqua Area Potters are hosting the annual Empty Bowls fundraiser\, supporting FeedMore WNY’s food programs. Browse from a selection of hundreds of one-of-a-kind\, hand-crafted bowls. \n  \nThe event will take place in the East Parking Lot of downtown Fredonia on Saturday\, October 2\, 2021 from 11:00 a.m. until 3:00 p.m. The event will take place rain or shine. \n  \nFor more information\, call Mudslingers at (716) 672-6833 or visit facebook.com/fredoniaemptybowlsproject. \n  \nEvent sponsored by Lake Shore Savings Bank.
URL:https://www.feedmorewny.org/event/empty-bowls-fundraiser-by-the-chautauqua-area-potters-2021/
LOCATION:Village of Fredonia (East Parking Lot)\, 27 E Main St\, Fredonia\, NY\, 14063\, United States
CATEGORIES:Fundraiser
END:VEVENT
END:VCALENDAR