BEGIN:VCALENDAR
VERSION:2.0
PRODID:-//FeedMore WNY - ECPv6.4.0//NONSGML v1.0//EN
CALSCALE:GREGORIAN
METHOD:PUBLISH
X-WR-CALNAME:FeedMore WNY
X-ORIGINAL-URL:https://www.feedmorewny.org
X-WR-CALDESC:Events for FeedMore WNY
REFRESH-INTERVAL;VALUE=DURATION:PT1H
X-Robots-Tag:noindex
X-PUBLISHED-TTL:PT1H
BEGIN:VTIMEZONE
TZID:America/New_York
BEGIN:DAYLIGHT
TZOFFSETFROM:-0500
TZOFFSETTO:-0400
TZNAME:EDT
DTSTART:20210314T070000
END:DAYLIGHT
BEGIN:STANDARD
TZOFFSETFROM:-0400
TZOFFSETTO:-0500
TZNAME:EST
DTSTART:20211107T060000
END:STANDARD
END:VTIMEZONE
BEGIN:VEVENT
DTSTART;VALUE=DATE:20211103
DTEND;VALUE=DATE:20211125
DTSTAMP:20260423T165856
CREATED:20211101T165559Z
LAST-MODIFIED:20211101T165636Z
UID:17320-1635897600-1637798399@www.feedmorewny.org
SUMMARY:FeedMore WNY Holiday Wreath and Centerpiece Sale
DESCRIPTION:Help FeedMore WNY provide nutritious food\, friendship and skills training to our neighbors in need by purchasing the perfect wreath or centerpiece for a gift or to decorate your home for the holiday season! \n  \nHandmade wreaths and festive centerpieces will be available for pre-order beginning on Wednesday\, November 3\, 2021. Orders will close on Wednesday\, November 24\, 2021 and a portion of your purchase benefits the FeedMore WNY Foundation. \n  \nPlace an order here.\n  \nWreaths and centerpieces will be available for pickup at three convenient locations: \n  \nFriday\, December 3\, 2021 from 2:00 p.m. to 6:00 p.m.\nFeedMore WNY\n(91 Holt Street\, Buffalo\, NY 14206) \n  \nSaturday\, December 4\, 2021 from 9:00 a.m. to 11:00 a.m.\nSt. Paul’s Episcopal Church\n(4275 Harris Hill Rd\, Clarence\, NY 14221) \n  \nSaturday\, December 4\, 2021 from 9:00 a.m. to 11:00 a.m.\nSt. John’s Lutheran Church\n(4536 S Buffalo Street\, Orchard Park\, NY 14127)
URL:https://www.feedmorewny.org/event/feedmore-wny-holiday-wreath-and-centerpiece-sale-2021/
LOCATION:Multiple Locations\, United States
CATEGORIES:Fundraiser
ORGANIZER;CN="FeedMore WNY":MAILTO:hello@feedmorewny.org
END:VEVENT
END:VCALENDAR