BEGIN:VCALENDAR
VERSION:2.0
PRODID:-//FeedMore WNY - ECPv6.4.0//NONSGML v1.0//EN
CALSCALE:GREGORIAN
METHOD:PUBLISH
X-ORIGINAL-URL:https://www.feedmorewny.org
X-WR-CALDESC:Events for FeedMore WNY
REFRESH-INTERVAL;VALUE=DURATION:PT1H
X-Robots-Tag:noindex
X-PUBLISHED-TTL:PT1H
BEGIN:VTIMEZONE
TZID:America/New_York
BEGIN:DAYLIGHT
TZOFFSETFROM:-0500
TZOFFSETTO:-0400
TZNAME:EDT
DTSTART:20210314T070000
END:DAYLIGHT
BEGIN:STANDARD
TZOFFSETFROM:-0400
TZOFFSETTO:-0500
TZNAME:EST
DTSTART:20211107T060000
END:STANDARD
END:VTIMEZONE
BEGIN:VEVENT
DTSTART;VALUE=DATE:20211015
DTEND;VALUE=DATE:20211116
DTSTAMP:20260424T131218
CREATED:20211101T154526Z
LAST-MODIFIED:20211101T154727Z
UID:17305-1634256000-1637020799@www.feedmorewny.org
SUMMARY:Rexel USA Food Drive
DESCRIPTION:Rexel USA is hosting a food drive at their two Western New York locations. Support FeedMore WNY’s programs and services by making a donation in Cheektowaga or Jamestown: \n  \nRexel Cheektowaga Branch\n505 Duke Road Suite 400\nCheektowaga\, NY 14225\nOffice # 716 893-3030 \n  \nRexel Jamestown Branch\n500 West 4thStreet\nJamestown\, NY 14701\nOffice #:  716-488-0216
URL:https://www.feedmorewny.org/event/rexel-usa-food-drive-2021/
LOCATION:Multiple Locations\, United States
CATEGORIES:Food Drive
END:VEVENT
BEGIN:VEVENT
DTSTART;VALUE=DATE:20211022
DTEND;VALUE=DATE:20211119
DTSTAMP:20260424T131218
CREATED:20211101T155400Z
LAST-MODIFIED:20211101T155434Z
UID:17311-1634860800-1637279999@www.feedmorewny.org
SUMMARY:Charter Communications Spectrum Food Drive
DESCRIPTION:Charter Communications is hosting a food drive to support our programs and services! Donations can be made during regular business hours at their Apple Tree Mall offices in Cheektowaga.
URL:https://www.feedmorewny.org/event/charter-communications-spectrum-food-drive-2021/
LOCATION:Charter Communications Spectrum\, 2875 Union Rd\, Cheektowaga\, NY\, 14227\, United States
CATEGORIES:Food Drive
END:VEVENT
END:VCALENDAR