BEGIN:VCALENDAR
VERSION:2.0
PRODID:-//FeedMore WNY - ECPv6.4.0//NONSGML v1.0//EN
CALSCALE:GREGORIAN
METHOD:PUBLISH
X-WR-CALNAME:FeedMore WNY
X-ORIGINAL-URL:https://www.feedmorewny.org
X-WR-CALDESC:Events for FeedMore WNY
REFRESH-INTERVAL;VALUE=DURATION:PT1H
X-Robots-Tag:noindex
X-PUBLISHED-TTL:PT1H
BEGIN:VTIMEZONE
TZID:America/New_York
BEGIN:DAYLIGHT
TZOFFSETFROM:-0500
TZOFFSETTO:-0400
TZNAME:EDT
DTSTART:20210314T070000
END:DAYLIGHT
BEGIN:STANDARD
TZOFFSETFROM:-0400
TZOFFSETTO:-0500
TZNAME:EST
DTSTART:20211107T060000
END:STANDARD
END:VTIMEZONE
BEGIN:VEVENT
DTSTART;TZID=America/New_York:20210926T123000
DTEND;TZID=America/New_York:20210926T170000
DTSTAMP:20260423T062906
CREATED:20210901T141513Z
LAST-MODIFIED:20210909T174701Z
UID:16598-1632659400-1632675600@www.feedmorewny.org
SUMMARY:Buffalo Bills "Huddle for Hunger Game" vs Washington Football Team
DESCRIPTION:September 26’s game against the Washington Football Team has been deemed the Huddle for Hunger Game! \n  \nThroughout the weekend\, volunteers will be selling 50/50 raffle tickets\, with proceeds benefitting FeedMore WNY. These tickets will only be available at the Huddle for Hunger food drive\, the Buffalo Bills 50 Yard Finish and the Buffalo Bills game vs Washington. \n  \nLearn more about Huddle for Hunger here.
URL:https://www.feedmorewny.org/event/buffalo-bills-huddle-for-hunger-game-vs-washington-football-team/
LOCATION:Highmark Stadium\, 1 Bills Drive\, Orchard Park\, NY\, 14127\, United States
CATEGORIES:Fundraiser
END:VEVENT
END:VCALENDAR