BEGIN:VCALENDAR
VERSION:2.0
PRODID:-//FeedMore WNY - ECPv6.4.0//NONSGML v1.0//EN
CALSCALE:GREGORIAN
METHOD:PUBLISH
X-ORIGINAL-URL:https://www.feedmorewny.org
X-WR-CALDESC:Events for FeedMore WNY
REFRESH-INTERVAL;VALUE=DURATION:PT1H
X-Robots-Tag:noindex
X-PUBLISHED-TTL:PT1H
BEGIN:VTIMEZONE
TZID:America/New_York
BEGIN:DAYLIGHT
TZOFFSETFROM:-0500
TZOFFSETTO:-0400
TZNAME:EDT
DTSTART:20190310T070000
END:DAYLIGHT
BEGIN:STANDARD
TZOFFSETFROM:-0400
TZOFFSETTO:-0500
TZNAME:EST
DTSTART:20191103T060000
END:STANDARD
END:VTIMEZONE
BEGIN:VEVENT
DTSTART;TZID=America/New_York:20190831T120000
DTEND;TZID=America/New_York:20190901T190000
DTSTAMP:20260424T042539
CREATED:20180828T175553Z
LAST-MODIFIED:20180828T175553Z
UID:4778-1567252800-1567364400@www.feedmorewny.org
SUMMARY:National Buffalo Wing Festival 2019
DESCRIPTION:FeedMore WNY is once again a beneficiary of the National Buffalo Wing Festival! Stop by Labor Day Weekend to enjoy an afternoon full of Buffalo’s favorite food! \nVolunteers are needed to help us at this year’s event: \n\nFriday\, August 30\, 2019 in the morning to help set up the event.\nSaturday\, August 31\, 2019 between 11:30 a.m. and 9 p.m to run the food ticket tent. (3-4 hour shifts available)\nSunday\, September 1\, 2019 between 11:30 a.m. and 7 p.m to run the food ticket tent. (3-4 hour shifts are available)\n\nIf you are interested in volunteering\, contact Gaelyn Clay-Adams by phone at (716) 852-1305 extension 3099 or by email at gclay-adams@feedmorewny.org. \n 
URL:https://www.feedmorewny.org/event/national-buffalo-wing-festival/
LOCATION:EC Legislator Joseph Lorigo (1) – SEN – Friday
END:VEVENT
BEGIN:VEVENT
DTSTART;TZID=America/New_York:20190831T120000
DTEND;TZID=America/New_York:20190901T190000
DTSTAMP:20260424T042539
CREATED:20180828T175553Z
LAST-MODIFIED:20180828T175553Z
UID:8072-1567252800-1567364400@www.feedmorewny.org
SUMMARY:National Buffalo Wing Festival 2019
DESCRIPTION:FeedMore WNY is once again a beneficiary of the National Buffalo Wing Festival! Stop by Labor Day Weekend to enjoy an afternoon full of Buffalo’s favorite food! \nVolunteers are needed to help us at this year’s event: \n\nFriday\, August 30\, 2019 in the morning to help set up the event.\nSaturday\, August 31\, 2019 between 11:30 a.m. and 9 p.m to run the food ticket tent. (3-4 hour shifts available)\nSunday\, September 1\, 2019 between 11:30 a.m. and 7 p.m to run the food ticket tent. (3-4 hour shifts are available)\n\nIf you are interested in volunteering\, contact Gaelyn Clay-Adams by phone at (716) 852-1305 extension 3099 or by email at gclay-adams@feedmorewny.org. \n 
URL:https://www.feedmorewny.org/event/national-buffalo-wing-festival-2/
LOCATION:EC Legislator Joseph Lorigo (1) – SEN – Friday
END:VEVENT
BEGIN:VEVENT
DTSTART;TZID=America/New_York:20190906T080000
DTEND;TZID=America/New_York:20190906T140000
DTSTAMP:20260424T042539
CREATED:20190807T191922Z
LAST-MODIFIED:20190807T191922Z
UID:8086-1567756800-1567778400@www.feedmorewny.org
SUMMARY:H.O.P.E. Summit 2019
DESCRIPTION:Agency Services will once again offer its annual H.O.P.E. Summit (Helping Our Partners Exceed) to all Food Bank program agencies. This full-day seminar offers agencies an opportunity to exchange ideas and learn from each other. The agencies also will have access to breakout sessions specific to the type of program they run. \nRegister online via Eventbrite by clicking here.
URL:https://www.feedmorewny.org/event/hope-summit-2019/
LOCATION:LAC_RoutePrep
END:VEVENT
BEGIN:VEVENT
DTSTART;TZID=America/New_York:20190906T080000
DTEND;TZID=America/New_York:20190906T140000
DTSTAMP:20260424T042539
CREATED:20190807T191922Z
LAST-MODIFIED:20190807T191922Z
UID:8153-1567756800-1567778400@www.feedmorewny.org
SUMMARY:H.O.P.E. Summit 2019
DESCRIPTION:Agency Services will once again offer its annual H.O.P.E. Summit (Helping Our Partners Exceed) to all Food Bank program agencies. This full-day seminar offers agencies an opportunity to exchange ideas and learn from each other. The agencies also will have access to breakout sessions specific to the type of program they run. \nRegister online via Eventbrite by clicking here.
URL:https://www.feedmorewny.org/event/hope-summit-2019-2/
LOCATION:LAC_RoutePrep
END:VEVENT
BEGIN:VEVENT
DTSTART;TZID=America/New_York:20190912T170000
DTEND;TZID=America/New_York:20190912T200000
DTSTAMP:20260424T042539
CREATED:20190726T135610Z
LAST-MODIFIED:20190726T135610Z
UID:8082-1568307600-1568318400@www.feedmorewny.org
SUMMARY:Plate Expectations 2019 - Presented by Wegmans
DESCRIPTION:Enjoy food\, beer\, wine\, games\, rock climbing\, and more at this fundraising event supporting Meals on Wheels\, a program of FeedMore WNY! Take part in this exciting event at Resurgence Brewing Company’s brand new Chicago Street location!\nPurchase tickets online\n\n$60 General Admission | $100 VIP Admission | $160 Couple’s VIP Admission\n\nVIP tickets include event admission\, a 16oz pint glass\, rock wall climb\, and an option to play either the wall of wine or lucky numbers. A limited number of VIP tickets are available. Casual attire recommended.  For more information\, contact Cassie Barrett at cbarrett@feedmorewny.org or 852-1305 ext. 3082\nPRESENTED BY\n\n\n\n\nGOLD SPONSORS \n\n\n\n\n\n\n\n\n\n\n\n\n\n\n\nSILVER SPONSORS \n  \n\nAlliant Capital Management\nFreed Maxick\nGreat Lakes Building Systems\nMoog\, Inc.\nPersonal Touch Food Service\, Inc.\nWalsh Duffield\nZenner & Ritter\n\n\n\nBRONZE SPONSORS \n  \n\nAllied Mechanical\nHanover Insurance Group\nHuntington Debt Holdings\nKeyBank\nKreher’s Family Farms\nMagavern Magavern Grimm\, LLP\nMorgan Stanley\nMutual of America\nNational Grid\nNCAComp\, Inc.\nPCA Technology Group\nPhillips Lytle LLP\nSeneca Gaming Corporation\nSouthside Trailer Service\n\n\n\nFOOD & BEVERAGE SPONSORS \nA. J. Letizio Sales & Marketing\, Inc.\nChateau Buffalo\nEllicottville Brewing Co.\nLockhouse Distillery\nNorth America Breweries\nOrchard Fresh\nPerry’s Ice Cream\nQueen City Foods\nRussell’s Steaks\, Chops & More\nTommyrotter Distillery\nWegmans \n\n\n\n\nADDITIONAL SPONSORS \n  \n\nBusiness First\nCumulus Media\nDavid Collins Productions\nGrover Cleveland Press\nWGRZ – Channel 2
URL:https://www.feedmorewny.org/event/plate-expectations-2019-presented-by-wegmans/
END:VEVENT
BEGIN:VEVENT
DTSTART;TZID=America/New_York:20190912T170000
DTEND;TZID=America/New_York:20190912T200000
DTSTAMP:20260424T042539
CREATED:20190726T135610Z
LAST-MODIFIED:20190726T135610Z
UID:8149-1568307600-1568318400@www.feedmorewny.org
SUMMARY:Plate Expectations 2019 - Presented by Wegmans
DESCRIPTION:Enjoy food\, beer\, wine\, games\, rock climbing\, and more at this fundraising event supporting Meals on Wheels\, a program of FeedMore WNY! Take part in this exciting event at Resurgence Brewing Company’s brand new Chicago Street location!\nPurchase tickets online\n\n$60 General Admission | $100 VIP Admission | $160 Couple’s VIP Admission\n\nVIP tickets include event admission\, a 16oz pint glass\, rock wall climb\, and an option to play either the wall of wine or lucky numbers. A limited number of VIP tickets are available. Casual attire recommended.  For more information\, contact Cassie Barrett at cbarrett@feedmorewny.org or 852-1305 ext. 3082\nPRESENTED BY\n\n\n\n\nGOLD SPONSORS \n\n\n\n\n\n\n\n\n\n\n\n\n\n\n\nSILVER SPONSORS \n  \n\nAlliant Capital Management\nFreed Maxick\nGreat Lakes Building Systems\nMoog\, Inc.\nPersonal Touch Food Service\, Inc.\nWalsh Duffield\nZenner & Ritter\n\n\n\nBRONZE SPONSORS \n  \n\nAllied Mechanical\nHanover Insurance Group\nHuntington Debt Holdings\nKeyBank\nKreher’s Family Farms\nMagavern Magavern Grimm\, LLP\nMorgan Stanley\nMutual of America\nNational Grid\nNCAComp\, Inc.\nPCA Technology Group\nPhillips Lytle LLP\nSeneca Gaming Corporation\nSouthside Trailer Service\n\n\n\nFOOD & BEVERAGE SPONSORS \nA. J. Letizio Sales & Marketing\, Inc.\nChateau Buffalo\nEllicottville Brewing Co.\nLockhouse Distillery\nNorth America Breweries\nOrchard Fresh\nPerry’s Ice Cream\nQueen City Foods\nRussell’s Steaks\, Chops & More\nTommyrotter Distillery\nWegmans \n\n\n\n\nADDITIONAL SPONSORS \n  \n\nBusiness First\nCumulus Media\nDavid Collins Productions\nGrover Cleveland Press\nWGRZ – Channel 2
URL:https://www.feedmorewny.org/event/plate-expectations-2019-presented-by-wegmans-2/
END:VEVENT
BEGIN:VEVENT
DTSTART;TZID=America/New_York:20190914T080000
DTEND;TZID=America/New_York:20190914T200000
DTSTAMP:20260424T042539
CREATED:20180628T200340Z
LAST-MODIFIED:20180628T200340Z
UID:8000-1568448000-1568491200@www.feedmorewny.org
SUMMARY:19th Annual Motorcycle Run & Rally / Cruise-In
DESCRIPTION:It’s time to polish those pipes\, strap on those helmets and can it for the fight against hunger. Not riding? Bring your bike\, car\, truck or whatever! \nEveryone is invited! \nRide on out for the 19th Annual Food Bank of WNY Motorcycle Run and Rally / Cruise-In at the Newell-Faulkner American Legion Post 880 in Eden\, NY. The motorcycle run travels throughout Western New York and includes food\, beverages\, raffles\, “dice runs\,” live entertainment and more. Live music and Deejay “Rainmain” Mark Ferguson will be at the Legion leading the party. \nAll proceeds raised through the event will go directly to the Food Bank\, a program of FeedMore WNY.\nEvent registration will be open soon\, so stay tuned! You do not have to participate in the motorcycle run to attend the rally.\n  \n 
URL:https://www.feedmorewny.org/event/18th-annual-motorcycle-run-rally/
LOCATION:Begonias – 4.5″ Terracotta Potted Annuals
END:VEVENT
BEGIN:VEVENT
DTSTART;TZID=America/New_York:20190914T080000
DTEND;TZID=America/New_York:20190914T200000
DTSTAMP:20260424T042539
CREATED:20180628T200340Z
LAST-MODIFIED:20180628T200340Z
UID:8061-1568448000-1568491200@www.feedmorewny.org
SUMMARY:19th Annual Motorcycle Run & Rally / Cruise-In
DESCRIPTION:It’s time to polish those pipes\, strap on those helmets and can it for the fight against hunger. Not riding? Bring your bike\, car\, truck or whatever! \nEveryone is invited! \nRide on out for the 19th Annual Food Bank of WNY Motorcycle Run and Rally / Cruise-In at the Newell-Faulkner American Legion Post 880 in Eden\, NY. The motorcycle run travels throughout Western New York and includes food\, beverages\, raffles\, “dice runs\,” live entertainment and more. Live music and Deejay “Rainmain” Mark Ferguson will be at the Legion leading the party. \nAll proceeds raised through the event will go directly to the Food Bank\, a program of FeedMore WNY.\nEvent registration will be open soon\, so stay tuned! You do not have to participate in the motorcycle run to attend the rally.\n  \n 
URL:https://www.feedmorewny.org/event/18th-annual-motorcycle-run-rally-2/
LOCATION:Begonias – 4.5″ Terracotta Potted Annuals
END:VEVENT
BEGIN:VEVENT
DTSTART;TZID=America/New_York:20190915T113000
DTEND;TZID=America/New_York:20190915T170000
DTSTAMP:20260424T042539
CREATED:20190807T191057Z
LAST-MODIFIED:20190807T191057Z
UID:8084-1568547000-1568566800@www.feedmorewny.org
SUMMARY:Meatball Streetbrawl IV
DESCRIPTION:Twenty-five establishments bring their homemade meatballs to this outdoor festival in hopes of claiming victory as one of Buffalo’s best! \nEnjoy food\, beverages\, and more at this annual event benefiting FeedMore WNY’s Meals on Wheels program and other local charity organizations. Tickets are available online by visiting meatballstreetbrawl.com. \nVolunteers are needed to help run event tables along Mohawk Street in downtown Buffalo! If you are interested in volunteering\, contact Gaelyn Clay-Adams by phone at (716) 852-1305 extension 3099 or by email at gclay-adams@feedmorewny.org.
URL:https://www.feedmorewny.org/event/meatball-streetbrawl-iv/
END:VEVENT
BEGIN:VEVENT
DTSTART;TZID=America/New_York:20190915T113000
DTEND;TZID=America/New_York:20190915T170000
DTSTAMP:20260424T042539
CREATED:20190807T191057Z
LAST-MODIFIED:20190807T191057Z
UID:8151-1568547000-1568566800@www.feedmorewny.org
SUMMARY:Meatball Streetbrawl IV
DESCRIPTION:Twenty-five establishments bring their homemade meatballs to this outdoor festival in hopes of claiming victory as one of Buffalo’s best! \nEnjoy food\, beverages\, and more at this annual event benefiting FeedMore WNY’s Meals on Wheels program and other local charity organizations. Tickets are available online by visiting meatballstreetbrawl.com. \nVolunteers are needed to help run event tables along Mohawk Street in downtown Buffalo! If you are interested in volunteering\, contact Gaelyn Clay-Adams by phone at (716) 852-1305 extension 3099 or by email at gclay-adams@feedmorewny.org.
URL:https://www.feedmorewny.org/event/meatball-streetbrawl-iv-2/
END:VEVENT
END:VCALENDAR