BEGIN:VCALENDAR
VERSION:2.0
PRODID:-//FeedMore WNY - ECPv6.4.0//NONSGML v1.0//EN
CALSCALE:GREGORIAN
METHOD:PUBLISH
X-WR-CALNAME:FeedMore WNY
X-ORIGINAL-URL:https://www.feedmorewny.org
X-WR-CALDESC:Events for FeedMore WNY
REFRESH-INTERVAL;VALUE=DURATION:PT1H
X-Robots-Tag:noindex
X-PUBLISHED-TTL:PT1H
BEGIN:VTIMEZONE
TZID:UTC
BEGIN:STANDARD
TZOFFSETFROM:+0000
TZOFFSETTO:+0000
TZNAME:UTC
DTSTART:20190101T000000
END:STANDARD
END:VTIMEZONE
BEGIN:VEVENT
DTSTART;VALUE=DATE:20190602
DTEND;VALUE=DATE:20190617
DTSTAMP:20260423T000237
CREATED:20190605T183315Z
LAST-MODIFIED:20190605T183315Z
UID:8071-1559433600-1560729599@www.feedmorewny.org
SUMMARY:Fill the Backpack 2019
DESCRIPTION:From June 2– June 16\, Wegmans shoppers throughout the Feed More’s four-county service area will be able to purchase prepackaged bags of food to support the BackPack Program\, which helps students who rely on free or reduced-price meals at school by providing them with take-home bags of food each Friday throughout the school year. \nThe Fill The Backpack program is in 52 schools and more than 3\,500 kids are involved in the program this year. \nCustomers can purchase a $3\, $5 or $10 pre-packed bag at 11 different Wegmans locations. Individual items will not be available for purchase. \nThank you to News 4 WIVB-TV/CW23 WNLO\, Fidelis Care and Wegmans Food Markets! \nLearn more at https://www.wivb.com/fill-the-backpack-2019 \n 
URL:https://www.feedmorewny.org/event/fill-the-backpack-2019/
LOCATION:Protected: Order – November 19\, 2019 @ 08:49 PM
ATTACH;FMTTYPE=:
END:VEVENT
BEGIN:VEVENT
DTSTART;VALUE=DATE:20190602
DTEND;VALUE=DATE:20190617
DTSTAMP:20260423T000237
CREATED:20190605T183315Z
LAST-MODIFIED:20190605T183315Z
UID:8139-1559433600-1560729599@www.feedmorewny.org
SUMMARY:Fill the Backpack 2019
DESCRIPTION:From June 2– June 16\, Wegmans shoppers throughout the Feed More’s four-county service area will be able to purchase prepackaged bags of food to support the BackPack Program\, which helps students who rely on free or reduced-price meals at school by providing them with take-home bags of food each Friday throughout the school year. \nThe Fill The Backpack program is in 52 schools and more than 3\,500 kids are involved in the program this year. \nCustomers can purchase a $3\, $5 or $10 pre-packed bag at 11 different Wegmans locations. Individual items will not be available for purchase. \nThank you to News 4 WIVB-TV/CW23 WNLO\, Fidelis Care and Wegmans Food Markets! \nLearn more at https://www.wivb.com/fill-the-backpack-2019 \n 
URL:https://www.feedmorewny.org/event/fill-the-backpack-2019-2/
LOCATION:Protected: Order – November 19\, 2019 @ 08:49 PM
ATTACH;FMTTYPE=:
END:VEVENT
BEGIN:VEVENT
DTSTART;TZID=UTC:20190604T080000
DTEND;TZID=UTC:20190630T170000
DTSTAMP:20260423T000237
CREATED:20190605T182346Z
LAST-MODIFIED:20190605T182346Z
UID:8069-1559635200-1561914000@www.feedmorewny.org
SUMMARY:Towne Automotive Group 50th Anniversary Sale - Benefiting FeedMore WNY
DESCRIPTION:In celebration of its 50th anniversary\, Towne Automotive Group announced today that it is holding a special sales promotion during the month of June to benefit FeedMore WNY. Towne Automotive Group will donate a portion of the proceeds to FeedMore WNY. Learn more at https://www.towneauto.com/
URL:https://www.feedmorewny.org/event/towne-automotive-group-50th-anniversary-sale-benefiting-feedmore-wny/
END:VEVENT
BEGIN:VEVENT
DTSTART;TZID=UTC:20190604T080000
DTEND;TZID=UTC:20190630T170000
DTSTAMP:20260423T000237
CREATED:20190605T182346Z
LAST-MODIFIED:20190605T182346Z
UID:8137-1559635200-1561914000@www.feedmorewny.org
SUMMARY:Towne Automotive Group 50th Anniversary Sale - Benefiting FeedMore WNY
DESCRIPTION:In celebration of its 50th anniversary\, Towne Automotive Group announced today that it is holding a special sales promotion during the month of June to benefit FeedMore WNY. Towne Automotive Group will donate a portion of the proceeds to FeedMore WNY. Learn more at https://www.towneauto.com/
URL:https://www.feedmorewny.org/event/towne-automotive-group-50th-anniversary-sale-benefiting-feedmore-wny-2/
END:VEVENT
BEGIN:VEVENT
DTSTART;TZID=UTC:20190606T080000
DTEND;TZID=UTC:20190606T133000
DTSTAMP:20260423T000237
CREATED:20190514T125409Z
LAST-MODIFIED:20190514T125409Z
UID:8062-1559808000-1559827800@www.feedmorewny.org
SUMMARY:Elder Law Day 2019
DESCRIPTION:Elder Law Day provides information to assist older adults in making informed choices about their health and financial well-being. \nJoin Erie County Senior Services and the Center for Elder Law and Justice at this informational session at the Millennium Hotel. The event includes legal presentations\, consultations\, expert advice\, lunch and a raffle. \nLearn more and register by visiting http://www2.erie.gov/seniorservices/index.php?q=feature/elder-law-day-june-6-2019
URL:https://www.feedmorewny.org/event/elder-law-day-2019/
LOCATION:Protected: Order – November 4\, 2019 @ 02:06 PM
ATTACH;FMTTYPE=:
END:VEVENT
BEGIN:VEVENT
DTSTART;TZID=UTC:20190606T080000
DTEND;TZID=UTC:20190606T133000
DTSTAMP:20260423T000237
CREATED:20190514T125409Z
LAST-MODIFIED:20190514T125409Z
UID:8130-1559808000-1559827800@www.feedmorewny.org
SUMMARY:Elder Law Day 2019
DESCRIPTION:Elder Law Day provides information to assist older adults in making informed choices about their health and financial well-being. \nJoin Erie County Senior Services and the Center for Elder Law and Justice at this informational session at the Millennium Hotel. The event includes legal presentations\, consultations\, expert advice\, lunch and a raffle. \nLearn more and register by visiting http://www2.erie.gov/seniorservices/index.php?q=feature/elder-law-day-june-6-2019
URL:https://www.feedmorewny.org/event/elder-law-day-2019-2/
LOCATION:Protected: Order – November 4\, 2019 @ 02:06 PM
ATTACH;FMTTYPE=:
END:VEVENT
BEGIN:VEVENT
DTSTART;TZID=UTC:20190620T180000
DTEND;TZID=UTC:20190620T200000
DTSTAMP:20260423T000237
CREATED:20190524T132726Z
LAST-MODIFIED:20190524T132726Z
UID:8067-1561053600-1561060800@www.feedmorewny.org
SUMMARY:Hungry to Help WNY
DESCRIPTION:Try culinary creations by some of Buffalo’s best chefs and enjoy an open bar\, all while supporting the programs of FeedMore WNY! Join us at this first-ever charity tasting event hosted by Patina 250. \nEnjoy unlimited hors d’oeuvres from some of Buffalo’s premiere restaurants\, including: \n\nPatina 250\nHutch’s\nRistorante Lombardo\nThe Black Sheep Restaurant & Bar\nThe Dapper Goose\nLucky Day\nRick’s on Main\nBlack Iron Bystro\nDelaware North Sportservice at KeyBank Center\n\nTickets and more information are available atwww.hungrytohelpwny.com\nHungry to Help WNY\nDate: June 20\, 2019\nTime: 6:00 p.m. – 8:00 p.m.\nLocation: Patina 250 – 250 Delaware Ave\, Buffalo\, NY 14202
URL:https://www.feedmorewny.org/event/hungry-to-help-wny/
ATTACH;FMTTYPE=:
END:VEVENT
BEGIN:VEVENT
DTSTART;TZID=UTC:20190620T180000
DTEND;TZID=UTC:20190620T200000
DTSTAMP:20260423T000237
CREATED:20190524T132726Z
LAST-MODIFIED:20190524T132726Z
UID:8135-1561053600-1561060800@www.feedmorewny.org
SUMMARY:Hungry to Help WNY
DESCRIPTION:Try culinary creations by some of Buffalo’s best chefs and enjoy an open bar\, all while supporting the programs of FeedMore WNY! Join us at this first-ever charity tasting event hosted by Patina 250. \nEnjoy unlimited hors d’oeuvres from some of Buffalo’s premiere restaurants\, including: \n\nPatina 250\nHutch’s\nRistorante Lombardo\nThe Black Sheep Restaurant & Bar\nThe Dapper Goose\nLucky Day\nRick’s on Main\nBlack Iron Bystro\nDelaware North Sportservice at KeyBank Center\n\nTickets and more information are available atwww.hungrytohelpwny.com\nHungry to Help WNY\nDate: June 20\, 2019\nTime: 6:00 p.m. – 8:00 p.m.\nLocation: Patina 250 – 250 Delaware Ave\, Buffalo\, NY 14202
URL:https://www.feedmorewny.org/event/hungry-to-help-wny-2/
ATTACH;FMTTYPE=:
END:VEVENT
BEGIN:VEVENT
DTSTART;TZID=UTC:20190621T190000
DTEND;TZID=UTC:20190621T220000
DTSTAMP:20260423T000237
CREATED:20180711T194118Z
LAST-MODIFIED:20180711T194118Z
UID:8001-1561143600-1561154400@www.feedmorewny.org
SUMMARY:Buffalo Spree Magazine's Best of WNY 2019 Party
DESCRIPTION:Are you ready for the BEST cocktail party of the summer? Get your tickets now for Buffalo Spree Magazine’s Best of WNY 2019 party on Friday\, June 21\, 2019 at Larkin Square\, 745 Seneca St.\, Buffalo\, NY 14210. A portion of proceeds from the event will benefit FeedMore WNY. \nJoin Buffalo Spree in celebrating the Best of WNY winners for 2019 at this can’t miss event featuring complimentary food and drink\, live entertainment\, auction\, backyard games and more. General admission is $35 and VIP admission is $100. Complimentary parking is available in the ramp and lots next to Larkin Square. \nFor tickets and more information\, click here.
URL:https://www.feedmorewny.org/event/buffalo-spree-magazines-best-of-wny-2019-party/
LOCATION:Champions for Meals Draws 45 VIPs!
ATTACH;FMTTYPE=:
END:VEVENT
BEGIN:VEVENT
DTSTART;TZID=UTC:20190621T190000
DTEND;TZID=UTC:20190621T220000
DTSTAMP:20260423T000237
CREATED:20180711T194118Z
LAST-MODIFIED:20180711T194118Z
UID:8063-1561143600-1561154400@www.feedmorewny.org
SUMMARY:Buffalo Spree Magazine's Best of WNY 2019 Party
DESCRIPTION:Are you ready for the BEST cocktail party of the summer? Get your tickets now for Buffalo Spree Magazine’s Best of WNY 2019 party on Friday\, June 21\, 2019 at Larkin Square\, 745 Seneca St.\, Buffalo\, NY 14210. A portion of proceeds from the event will benefit FeedMore WNY. \nJoin Buffalo Spree in celebrating the Best of WNY winners for 2019 at this can’t miss event featuring complimentary food and drink\, live entertainment\, auction\, backyard games and more. General admission is $35 and VIP admission is $100. Complimentary parking is available in the ramp and lots next to Larkin Square. \nFor tickets and more information\, click here.
URL:https://www.feedmorewny.org/event/buffalo-spree-magazines-best-of-wny-2019-party-2/
LOCATION:Champions for Meals Draws 45 VIPs!
ATTACH;FMTTYPE=:
END:VEVENT
BEGIN:VEVENT
DTSTART;TZID=UTC:20190627T170000
DTEND;TZID=UTC:20190627T190000
DTSTAMP:20260423T000237
CREATED:20190524T130519Z
LAST-MODIFIED:20190524T130519Z
UID:5647-1561654800-1561662000@www.feedmorewny.org
SUMMARY:Gift Gathering Party @ Hydraulic Hearth
DESCRIPTION:Join us at Hydraulic Hearth on Thursday\, June 27\, 2019 for a Gift Gathering Party! Enjoy a cash bar and complimentary snacks at this unique happy hour event supporting FeedMore WNY’s Plate Expectations! \nAdmission is a donated gift valued at $25 or more\, to be used as an auction item at this year’s Plate Expectations. (Suggested items include gift certificates\, wine\, gift baskets\, vacation items\, art\, sports and entertainment memorabilia\, or jewelry.) \nRSVP by contacting Cassie Barrett at 716-852-1305 or by emailing CBarrett@foodbankwny.org! \nDate: Thursday\, June 27\, 2019\nTime: 5 PM – 7 PM\nLocation: Hydraulic Hearth –  716 Swan St\, Buffalo\, NY 14210
URL:https://www.feedmorewny.org/event/gift-gathering-party-hydraulic-hearth/
END:VEVENT
BEGIN:VEVENT
DTSTART;TZID=UTC:20190627T170000
DTEND;TZID=UTC:20190627T190000
DTSTAMP:20260423T000237
CREATED:20190524T130519Z
LAST-MODIFIED:20190524T130519Z
UID:8133-1561654800-1561662000@www.feedmorewny.org
SUMMARY:Gift Gathering Party @ Hydraulic Hearth
DESCRIPTION:Join us at Hydraulic Hearth on Thursday\, June 27\, 2019 for a Gift Gathering Party! Enjoy a cash bar and complimentary snacks at this unique happy hour event supporting FeedMore WNY’s Plate Expectations! \nAdmission is a donated gift valued at $25 or more\, to be used as an auction item at this year’s Plate Expectations. (Suggested items include gift certificates\, wine\, gift baskets\, vacation items\, art\, sports and entertainment memorabilia\, or jewelry.) \nRSVP by contacting Cassie Barrett at 716-852-1305 or by emailing CBarrett@foodbankwny.org! \nDate: Thursday\, June 27\, 2019\nTime: 5 PM – 7 PM\nLocation: Hydraulic Hearth –  716 Swan St\, Buffalo\, NY 14210
URL:https://www.feedmorewny.org/event/gift-gathering-party-hydraulic-hearth-2/
END:VEVENT
END:VCALENDAR