BEGIN:VCALENDAR
VERSION:2.0
PRODID:-//FeedMore WNY - ECPv6.4.0//NONSGML v1.0//EN
CALSCALE:GREGORIAN
METHOD:PUBLISH
X-WR-CALNAME:FeedMore WNY
X-ORIGINAL-URL:https://www.feedmorewny.org
X-WR-CALDESC:Events for FeedMore WNY
REFRESH-INTERVAL;VALUE=DURATION:PT1H
X-Robots-Tag:noindex
X-PUBLISHED-TTL:PT1H
BEGIN:VTIMEZONE
TZID:UTC
BEGIN:STANDARD
TZOFFSETFROM:+0000
TZOFFSETTO:+0000
TZNAME:UTC
DTSTART:20190101T000000
END:STANDARD
END:VTIMEZONE
BEGIN:VEVENT
DTSTART;TZID=UTC:20190127T080000
DTEND;TZID=UTC:20190505T170000
DTSTAMP:20260425T211724
CREATED:20190103T184320Z
LAST-MODIFIED:20190103T184320Z
UID:8042-1548576000-1557075600@www.feedmorewny.org
SUMMARY:Check Out Hunger
DESCRIPTION:
URL:https://www.feedmorewny.org/event/check-out-hunger-3-2/
END:VEVENT
BEGIN:VEVENT
DTSTART;TZID=UTC:20190127T080000
DTEND;TZID=UTC:20190505T170000
DTSTAMP:20260425T211724
CREATED:20190103T184320Z
LAST-MODIFIED:20190103T184320Z
UID:8114-1548576000-1557075600@www.feedmorewny.org
SUMMARY:Check Out Hunger
DESCRIPTION:
URL:https://www.feedmorewny.org/event/check-out-hunger-3-3/
END:VEVENT
BEGIN:VEVENT
DTSTART;TZID=UTC:20190511T080000
DTEND;TZID=UTC:20190511T200000
DTSTAMP:20260425T211724
CREATED:20180504T212448Z
LAST-MODIFIED:20180504T212448Z
UID:7998-1557561600-1557604800@www.feedmorewny.org
SUMMARY:Stamp Out Hunger
DESCRIPTION:It’s that time of year again! Help us “Stamp Out Hunger” by leaving a nonperishable food item at your mailbox on Saturday\, May 11. Your donation will be picked up by local letter carriers and will help feed local children\, families and seniors in need. FeedMore WNY\, formerly the Food Bank of WNY and FeedMore WNY\, thanks the National Association of Letter Carriers for its continued support! \nSign up to volunteer below! \n\n\n                \n                        \n                            Home-Delivered Meals\n                             \n                         \n \n        \n        	Step 1 of 3\n        	\n            \n                33%\n            \n                        \n					URLThis field is for validation purposes and should be left unchanged.I am:*\n			\n				\n				Beginning sign-up on behalf of someone else and would like to be the contact during the enrollment process.\n			\n			\n				\n				Interested in signing up for Home-Delivered Meals for myself.\n			Your Name (fill out this field if different from Client's name)*Your Phone Number (fill out this field if different from Client's phone number)Client's Name*Address*City\, State\, Zip*Phone Number*Email*\n                    \n                    \n                          \n                    \n                \n                \n                    \n                        Date of Birth*\n                            \n                            MM slash DD slash YYYY\n                        \n                        Sex*\n			\n				\n				Male\n			\n			\n				\n				Female\n			Marital Status*-None-MarriedSingleWidowedDivorcedSeparatedVeteran Status:*\n			\n				\n				Yes\n			\n			\n				\n				No\n			Name of Primary PhysicianPhone number of Primary PhysicianFax number of Primary PhysicianClient Currently At:\n			\n				\n				Home\n			\n			\n				\n				Rehab\n			\n			\n				\n				Hospital\n			Name of Hospital or Rehab CenterAnticipated Date of Discharge\n                            \n                            MM slash DD slash YYYY\n                        \n                        \n                    \n                    \n                          \n                    \n                \n                \n                    \n                        Does Client Live Alone?\n			\n				\n				Yes\n			\n			\n				\n				No\n			Details About the Client (check all that apply):\n								\n								Vision Issues\n							\n								\n								Hearing Issues\n							\n								\n								Wheelchair\n							\n								\n								Walker\n							\n								\n								Cane\n							\n								\n								Oxygen\n							\n								\n								Alert and Aware\n							Why Are Home-Delivered Meals Needed?*Emergency Contact NameEmergency Contact Phone NumberEmergency Contact EmailRelationship to ClientAdditional InformationCAPTCHA
URL:https://www.feedmorewny.org/event/stamp-out-hunger-2/
END:VEVENT
BEGIN:VEVENT
DTSTART;TZID=UTC:20190511T080000
DTEND;TZID=UTC:20190511T200000
DTSTAMP:20260425T211724
CREATED:20180504T212448Z
LAST-MODIFIED:20180504T212448Z
UID:8057-1557561600-1557604800@www.feedmorewny.org
SUMMARY:Stamp Out Hunger
DESCRIPTION:It’s that time of year again! Help us “Stamp Out Hunger” by leaving a nonperishable food item at your mailbox on Saturday\, May 11. Your donation will be picked up by local letter carriers and will help feed local children\, families and seniors in need. FeedMore WNY\, formerly the Food Bank of WNY and FeedMore WNY\, thanks the National Association of Letter Carriers for its continued support! \nSign up to volunteer below! \n\n                \n                        \n                            Home-Delivered Meals\n                             \n                         \n \n        \n        	Step 1 of 3\n        	\n            \n                33%\n            \n                        \n					InstagramThis field is for validation purposes and should be left unchanged.I am:*\n			\n				\n				Beginning sign-up on behalf of someone else and would like to be the contact during the enrollment process.\n			\n			\n				\n				Interested in signing up for Home-Delivered Meals for myself.\n			Your Name (fill out this field if different from Client's name)*Your Phone Number (fill out this field if different from Client's phone number)Client's Name*Address*City\, State\, Zip*Phone Number*Email*\n                    \n                    \n                          \n                    \n                \n                \n                    \n                        Date of Birth*\n                            \n                            MM slash DD slash YYYY\n                        \n                        Sex*\n			\n				\n				Male\n			\n			\n				\n				Female\n			Marital Status*-None-MarriedSingleWidowedDivorcedSeparatedVeteran Status:*\n			\n				\n				Yes\n			\n			\n				\n				No\n			Name of Primary PhysicianPhone number of Primary PhysicianFax number of Primary PhysicianClient Currently At:\n			\n				\n				Home\n			\n			\n				\n				Rehab\n			\n			\n				\n				Hospital\n			Name of Hospital or Rehab CenterAnticipated Date of Discharge\n                            \n                            MM slash DD slash YYYY\n                        \n                        \n                    \n                    \n                          \n                    \n                \n                \n                    \n                        Does Client Live Alone?\n			\n				\n				Yes\n			\n			\n				\n				No\n			Details About the Client (check all that apply):\n								\n								Vision Issues\n							\n								\n								Hearing Issues\n							\n								\n								Wheelchair\n							\n								\n								Walker\n							\n								\n								Cane\n							\n								\n								Oxygen\n							\n								\n								Alert and Aware\n							Why Are Home-Delivered Meals Needed?*Emergency Contact NameEmergency Contact Phone NumberEmergency Contact EmailRelationship to ClientAdditional InformationCAPTCHA
URL:https://www.feedmorewny.org/event/stamp-out-hunger-2-2/
END:VEVENT
BEGIN:VEVENT
DTSTART;TZID=UTC:20190522T090000
DTEND;TZID=UTC:20190522T120000
DTSTAMP:20260425T211725
CREATED:20190411T130457Z
LAST-MODIFIED:20190411T130457Z
UID:8060-1558515600-1558526400@www.feedmorewny.org
SUMMARY:All Within My Hands Day Of Service
DESCRIPTION:Metallica\, All Within My Hands Foundation\, and Feeding America are partnering with food banks across the country to recruit volunteers for this year’s Day of Service! We’re excited to be part of this nationwide event on Wednesday\, May 22\, 2019. \nYou can sign up to be a volunteer with FeedMore WNY! Participating volunteers will be given a special All Within My Hands Foundation t-shirt to commemorate the event! \n\nSign-ups for this event have closed. Thank you for the support!\n\nStill interested in volunteering? Visit our volunteer page to find more opportunities like this one! \n#MetallicaGivesBack #AWMH
URL:https://www.feedmorewny.org/event/all-within-my-hands-day-of-service/
LOCATION:centerpiece-2candle
ATTACH;FMTTYPE=:
END:VEVENT
BEGIN:VEVENT
DTSTART;TZID=UTC:20190522T090000
DTEND;TZID=UTC:20190522T120000
DTSTAMP:20260425T211725
CREATED:20190411T130457Z
LAST-MODIFIED:20190411T130457Z
UID:8128-1558515600-1558526400@www.feedmorewny.org
SUMMARY:All Within My Hands Day Of Service
DESCRIPTION:Metallica\, All Within My Hands Foundation\, and Feeding America are partnering with food banks across the country to recruit volunteers for this year’s Day of Service! We’re excited to be part of this nationwide event on Wednesday\, May 22\, 2019. \nYou can sign up to be a volunteer with FeedMore WNY! Participating volunteers will be given a special All Within My Hands Foundation t-shirt to commemorate the event! \n\nSign-ups for this event have closed. Thank you for the support!\n\nStill interested in volunteering? Visit our volunteer page to find more opportunities like this one! \n#MetallicaGivesBack #AWMH
URL:https://www.feedmorewny.org/event/all-within-my-hands-day-of-service-2/
LOCATION:centerpiece-2candle
ATTACH;FMTTYPE=:
END:VEVENT
BEGIN:VEVENT
DTSTART;TZID=UTC:20190523T170000
DTEND;TZID=UTC:20190523T190000
DTSTAMP:20260425T211725
CREATED:20190516T133029Z
LAST-MODIFIED:20190516T133029Z
UID:8064-1558630800-1558638000@www.feedmorewny.org
SUMMARY:Gift Gathering Party @ YOLO Restaurant + Lounge | Thursday\, May 23\, 2019
DESCRIPTION:Join us at YOLO Restaurant + Lounge on Thursday\, May 23\, 2019 for a Gift Gathering Party! Enjoy a cash bar and complimentary snacks at this unique happy hour event supporting FeedMore WNY’s Plate Expectations! \nAdmission is a donated gift valued at $25 or more\, to be used as an auction item at this year’s Plate Expectations. (Suggested items include gift certificates\, wine\, gift baskets\, vacation items\, art\, sports and entertainment memorabilia\, or jewelry.) \nRSVP by contacting Cassie Barrett at 716-935-6682 or by emailing CBarrett@foodbankwny.org! \nDate: Thursday\, May 23\, 2019\nTime: 5 PM – 7 PM\nLocation: YOLO Restaurant + Lounge – 5841 Transit Rd\, East Amherst\, New York 14051
URL:https://www.feedmorewny.org/event/gift-gathering-party-yolo-2019/
LOCATION:Protected: Order – November 5\, 2019 @ 04:54 PM
ATTACH;FMTTYPE=:
END:VEVENT
BEGIN:VEVENT
DTSTART;TZID=UTC:20190523T170000
DTEND;TZID=UTC:20190523T190000
DTSTAMP:20260425T211725
CREATED:20190516T133029Z
LAST-MODIFIED:20190516T133029Z
UID:8132-1558630800-1558638000@www.feedmorewny.org
SUMMARY:Gift Gathering Party @ YOLO Restaurant + Lounge | Thursday\, May 23\, 2019
DESCRIPTION:Join us at YOLO Restaurant + Lounge on Thursday\, May 23\, 2019 for a Gift Gathering Party! Enjoy a cash bar and complimentary snacks at this unique happy hour event supporting FeedMore WNY’s Plate Expectations! \nAdmission is a donated gift valued at $25 or more\, to be used as an auction item at this year’s Plate Expectations. (Suggested items include gift certificates\, wine\, gift baskets\, vacation items\, art\, sports and entertainment memorabilia\, or jewelry.) \nRSVP by contacting Cassie Barrett at 716-935-6682 or by emailing CBarrett@foodbankwny.org! \nDate: Thursday\, May 23\, 2019\nTime: 5 PM – 7 PM\nLocation: YOLO Restaurant + Lounge – 5841 Transit Rd\, East Amherst\, New York 14051
URL:https://www.feedmorewny.org/event/gift-gathering-party-yolo-2019-2/
LOCATION:Protected: Order – November 5\, 2019 @ 04:54 PM
ATTACH;FMTTYPE=:
END:VEVENT
END:VCALENDAR