BEGIN:VCALENDAR
VERSION:2.0
PRODID:-//FeedMore WNY - ECPv6.4.0//NONSGML v1.0//EN
CALSCALE:GREGORIAN
METHOD:PUBLISH
X-ORIGINAL-URL:https://www.feedmorewny.org
X-WR-CALDESC:Events for FeedMore WNY
REFRESH-INTERVAL;VALUE=DURATION:PT1H
X-Robots-Tag:noindex
X-PUBLISHED-TTL:PT1H
BEGIN:VTIMEZONE
TZID:UTC
BEGIN:STANDARD
TZOFFSETFROM:+0000
TZOFFSETTO:+0000
TZNAME:UTC
DTSTART:20190101T000000
END:STANDARD
END:VTIMEZONE
BEGIN:VEVENT
DTSTART;TZID=UTC:20190127T080000
DTEND;TZID=UTC:20190505T170000
DTSTAMP:20260426T022047
CREATED:20190103T184320Z
LAST-MODIFIED:20190103T184320Z
UID:8042-1548576000-1557075600@www.feedmorewny.org
SUMMARY:Check Out Hunger
DESCRIPTION:
URL:https://www.feedmorewny.org/event/check-out-hunger-3-2/
END:VEVENT
BEGIN:VEVENT
DTSTART;TZID=UTC:20190127T080000
DTEND;TZID=UTC:20190505T170000
DTSTAMP:20260426T022047
CREATED:20190103T184320Z
LAST-MODIFIED:20190103T184320Z
UID:8114-1548576000-1557075600@www.feedmorewny.org
SUMMARY:Check Out Hunger
DESCRIPTION:
URL:https://www.feedmorewny.org/event/check-out-hunger-3-3/
END:VEVENT
BEGIN:VEVENT
DTSTART;TZID=UTC:20190207T170000
DTEND;TZID=UTC:20190207T203000
DTSTAMP:20260426T022047
CREATED:20181003T224021Z
LAST-MODIFIED:20181003T224021Z
UID:8009-1549558800-1549571400@www.feedmorewny.org
SUMMARY:Sweet Charity
DESCRIPTION:
URL:https://www.feedmorewny.org/event/sweet-charity-2/
END:VEVENT
BEGIN:VEVENT
DTSTART;TZID=UTC:20190207T170000
DTEND;TZID=UTC:20190207T203000
DTSTAMP:20260426T022047
CREATED:20181003T224021Z
LAST-MODIFIED:20181003T224021Z
UID:8081-1549558800-1549571400@www.feedmorewny.org
SUMMARY:Sweet Charity
DESCRIPTION:
URL:https://www.feedmorewny.org/event/sweet-charity-2-2/
END:VEVENT
BEGIN:VEVENT
DTSTART;TZID=UTC:20190216T123000
DTEND;TZID=UTC:20190216T150000
DTSTAMP:20260426T022047
CREATED:20190208T173410Z
LAST-MODIFIED:20190208T173410Z
UID:8044-1550320200-1550329200@www.feedmorewny.org
SUMMARY:2019 Polar Plunge!
DESCRIPTION:This event takes place during the President’s Day Weekend Winter Festival.\nTake a chilly dip into Chautauqua lake and warm your heart knowing you’ve helped feed our neighbors in need.\n11005 of the proceeds from this year’s Polar Plunge will allow The Food Bank of WNY to support their member agencies here in Chautauqua County in the Fight Against Hunger
URL:https://www.feedmorewny.org/event/2019-polar-plunge/
END:VEVENT
BEGIN:VEVENT
DTSTART;TZID=UTC:20190223T120000
DTEND;TZID=UTC:20190223T160000
DTSTAMP:20260426T022047
CREATED:20190212T152130Z
LAST-MODIFIED:20190212T152130Z
UID:8046-1550923200-1550937600@www.feedmorewny.org
SUMMARY:Williamsville's Soup Stroll
DESCRIPTION:
URL:https://www.feedmorewny.org/event/williamsvilles-soup-stroll/
END:VEVENT
BEGIN:VEVENT
DTSTART;TZID=UTC:20190223T120000
DTEND;TZID=UTC:20190223T160000
DTSTAMP:20260426T022047
CREATED:20190212T152130Z
LAST-MODIFIED:20190212T152130Z
UID:8117-1550923200-1550937600@www.feedmorewny.org
SUMMARY:Williamsville's Soup Stroll
DESCRIPTION:
URL:https://www.feedmorewny.org/event/williamsvilles-soup-stroll-2/
END:VEVENT
END:VCALENDAR