BEGIN:VCALENDAR
VERSION:2.0
PRODID:-//FeedMore WNY - ECPv6.4.0//NONSGML v1.0//EN
CALSCALE:GREGORIAN
METHOD:PUBLISH
X-WR-CALNAME:FeedMore WNY
X-ORIGINAL-URL:https://www.feedmorewny.org
X-WR-CALDESC:Events for FeedMore WNY
REFRESH-INTERVAL;VALUE=DURATION:PT1H
X-Robots-Tag:noindex
X-PUBLISHED-TTL:PT1H
BEGIN:VTIMEZONE
TZID:America/New_York
BEGIN:DAYLIGHT
TZOFFSETFROM:-0500
TZOFFSETTO:-0400
TZNAME:EDT
DTSTART:20210314T070000
END:DAYLIGHT
BEGIN:STANDARD
TZOFFSETFROM:-0400
TZOFFSETTO:-0500
TZNAME:EST
DTSTART:20211107T060000
END:STANDARD
END:VTIMEZONE
BEGIN:VEVENT
DTSTART;TZID=America/New_York:20210605T100000
DTEND;TZID=America/New_York:20210605T140000
DTSTAMP:20260424T080705
CREATED:20210503T173130Z
LAST-MODIFIED:20210520T144632Z
UID:14345-1622887200-1622901600@www.feedmorewny.org
SUMMARY:Spread the Love Peanut Butter Drive - Olean
DESCRIPTION:Support FeedMore WNY by donating urgently needed peanut butter! \n  \nTake part in the second annual Spread the Love peanut butter drive and support our neighbors in need. This is a “contactless” food drive. Simply pull up in your vehicle and volunteers will collect your donation from your trunk or back seat. \n  \nThis peanut butter drive is taking place in five locations on June 5\, 2021. Additional Spread the Love food drives are scheduled for May 22\, 2021. To see additional locations\, please view our list of food drives. \n  \nPrefer to donate online? Visit our virtual food drive!
URL:https://www.feedmorewny.org/event/spread-the-love-peanut-butter-drive-olean-june-2021/
LOCATION:Olean Area Farmers Market\, 100 E State St\, Olean\, NY\, 14760\, United States
CATEGORIES:Food Drive,Spread the Love
ORGANIZER;CN="FeedMore WNY":MAILTO:hello@feedmorewny.org
END:VEVENT
BEGIN:VEVENT
DTSTART;TZID=America/New_York:20210605T100000
DTEND;TZID=America/New_York:20210605T140000
DTSTAMP:20260424T080705
CREATED:20210503T172914Z
LAST-MODIFIED:20210520T144628Z
UID:14344-1622887200-1622901600@www.feedmorewny.org
SUMMARY:Spread the Love Peanut Butter Drive - Tonawanda
DESCRIPTION:Support FeedMore WNY by donating urgently needed peanut butter! \n  \nTake part in the second annual Spread the Love peanut butter drive and support our neighbors in need. This is a “contactless” food drive. Simply pull up in your vehicle and volunteers will collect your donation from your trunk or back seat. \n  \nThis peanut butter drive is taking place in five locations on June 5\, 2021. Additional Spread the Love food drives are scheduled for May 22\, 2021. To see additional locations\, please view our list of food drives. \n  \nPrefer to donate online? Visit our virtual food drive!
URL:https://www.feedmorewny.org/event/spread-the-love-peanut-butter-drive-tonawanda-june-2021/
LOCATION:NOCO Energy Corp (Tonawanda)\, 2440 Sheridan Dr\, Tonawanda\, NY\, 14150\, United States
CATEGORIES:Food Drive,Spread the Love
ORGANIZER;CN="FeedMore WNY":MAILTO:hello@feedmorewny.org
END:VEVENT
BEGIN:VEVENT
DTSTART;TZID=America/New_York:20210605T100000
DTEND;TZID=America/New_York:20210605T140000
DTSTAMP:20260424T080705
CREATED:20210503T172609Z
LAST-MODIFIED:20210520T144624Z
UID:14343-1622887200-1622901600@www.feedmorewny.org
SUMMARY:Spread the Love Peanut Butter Drive - Buffalo
DESCRIPTION:Support FeedMore WNY by donating urgently needed peanut butter! \n  \nTake part in the second annual Spread the Love peanut butter drive and support our neighbors in need. This is a “contactless” food drive. Simply pull up in your vehicle and volunteers will collect your donation from your trunk or back seat. \n  \nThis peanut butter drive is taking place in five locations on June 5\, 2021. Additional Spread the Love food drives are scheduled for May 22\, 2021. To see additional locations\, please view our list of food drives. \n  \nPrefer to donate online? Visit our virtual food drive!
URL:https://www.feedmorewny.org/event/spread-the-love-peanut-butter-drive-buffalo-june-2021/
LOCATION:Kleinhans Music Hall\, 3 Symphony Circle\, Buffalo\, NY\, 14201\, United States
CATEGORIES:Food Drive,Spread the Love
ORGANIZER;CN="FeedMore WNY":MAILTO:hello@feedmorewny.org
END:VEVENT
BEGIN:VEVENT
DTSTART;TZID=America/New_York:20210605T100000
DTEND;TZID=America/New_York:20210605T140000
DTSTAMP:20260424T080705
CREATED:20210503T172514Z
LAST-MODIFIED:20210520T144619Z
UID:14342-1622887200-1622901600@www.feedmorewny.org
SUMMARY:Spread the Love Peanut Butter Drive - Lakewood
DESCRIPTION:Support FeedMore WNY by donating urgently needed peanut butter! \n  \nTake part in the second annual Spread the Love peanut butter drive and support our neighbors in need. This is a “contactless” food drive. Simply pull up in your vehicle and volunteers will collect your donation from your trunk or back seat. \n  \nThis peanut butter drive is taking place in five locations on June 5\, 2021. Additional Spread the Love food drives are scheduled for May 22\, 2021. To see additional locations\, please view our list of food drives. \n  \nPrefer to donate online? Visit our virtual food drive!
URL:https://www.feedmorewny.org/event/spread-the-love-peanut-butter-drive-lakewood-june-2021/
LOCATION:Chautauqua Mall\, 318 E Fairmount Ave\, Lakewood\, NY\, 14750\, United States
CATEGORIES:Food Drive,Spread the Love
ORGANIZER;CN="FeedMore WNY":MAILTO:hello@feedmorewny.org
END:VEVENT
BEGIN:VEVENT
DTSTART;TZID=America/New_York:20210605T100000
DTEND;TZID=America/New_York:20210605T140000
DTSTAMP:20260424T080705
CREATED:20210503T172413Z
LAST-MODIFIED:20210520T144614Z
UID:14341-1622887200-1622901600@www.feedmorewny.org
SUMMARY:Spread the Love Peanut Butter Drive - East Aurora
DESCRIPTION:Support FeedMore WNY by donating urgently needed peanut butter! \n  \nTake part in the second annual Spread the Love peanut butter drive and support our neighbors in need. This is a “contactless” food drive. Simply pull up in your vehicle and volunteers will collect your donation from your trunk or back seat. \n  \nThis peanut butter drive is taking place in five locations on June 5\, 2021. Additional Spread the Love food drives are scheduled for May 22\, 2021. To see additional locations\, please view our list of food drives. \n  \nPrefer to donate online? Visit our virtual food drive!
URL:https://www.feedmorewny.org/event/spread-the-love-peanut-butter-drive-east-aurora-june-2021/
LOCATION:Aurora Village Shopping Center\, 123 Grey St\, East Aurora\, NY\, 14052\, United States
CATEGORIES:Food Drive,Spread the Love
ORGANIZER;CN="FeedMore WNY":MAILTO:hello@feedmorewny.org
END:VEVENT
BEGIN:VEVENT
DTSTART;TZID=America/New_York:20210522T100000
DTEND;TZID=America/New_York:20210522T140000
DTSTAMP:20260424T080705
CREATED:20210503T171444Z
LAST-MODIFIED:20210520T144609Z
UID:14330-1621677600-1621692000@www.feedmorewny.org
SUMMARY:Spread the Love Peanut Butter Drive - Cheektowaga
DESCRIPTION:Support FeedMore WNY by donating urgently needed peanut butter! \n  \nTake part in the second annual Spread the Love peanut butter drive and support our neighbors in need. This is a “contactless” food drive. Simply pull up in your vehicle and volunteers will collect your donation from your trunk or back seat. \n  \nThis peanut butter drive is taking place in five locations on May 22\, 2021. Additional Spread the Love food drives are scheduled for June 5\, 2021. To see additional locations\, please view our list of food drives. \n  \nPrefer to donate online? Visit our virtual food drive!
URL:https://www.feedmorewny.org/event/spread-the-love-peanut-butter-drive-cheektowaga-may-2021/
LOCATION:Walden Galleria Mall\, 1 Walden Galleria\, Cheektowaga\, NY\, 14225\, United States
CATEGORIES:Food Drive,Spread the Love
ORGANIZER;CN="FeedMore WNY":MAILTO:hello@feedmorewny.org
END:VEVENT
BEGIN:VEVENT
DTSTART;TZID=America/New_York:20210522T100000
DTEND;TZID=America/New_York:20210522T140000
DTSTAMP:20260424T080705
CREATED:20210503T171342Z
LAST-MODIFIED:20210520T144604Z
UID:14329-1621677600-1621692000@www.feedmorewny.org
SUMMARY:Spread the Love Peanut Butter Drive - Lockport
DESCRIPTION:Support FeedMore WNY by donating urgently needed peanut butter! \n  \nTake part in the second annual Spread the Love peanut butter drive and support our neighbors in need. This is a “contactless” food drive. Simply pull up in your vehicle and volunteers will collect your donation from your trunk or back seat. \n  \nThis peanut butter drive is taking place in five locations on May 22\, 2021. Additional Spread the Love food drives are scheduled for June 5\, 2021. To see additional locations\, please view our list of food drives. \n  \nPrefer to donate online? Visit our virtual food drive!
URL:https://www.feedmorewny.org/event/spread-the-love-peanut-butter-drive-lockport-may-2021/
LOCATION:Tops Friendly Markets (Lockport\, NY)\, 5827 S Transit Rd\, Lockport\, NY\, 14094\, United States
CATEGORIES:Food Drive,Spread the Love
ORGANIZER;CN="FeedMore WNY":MAILTO:hello@feedmorewny.org
END:VEVENT
BEGIN:VEVENT
DTSTART;TZID=America/New_York:20210522T100000
DTEND;TZID=America/New_York:20210522T140000
DTSTAMP:20260424T080705
CREATED:20210503T171147Z
LAST-MODIFIED:20210520T144600Z
UID:14328-1621677600-1621692000@www.feedmorewny.org
SUMMARY:Spread the Love Peanut Butter Drive - Orchard Park
DESCRIPTION:Support FeedMore WNY by donating urgently needed peanut butter! \n  \nTake part in the second annual Spread the Love peanut butter drive and support our neighbors in need. This is a “contactless” food drive. Simply pull up in your vehicle and volunteers will collect your donation from your trunk or back seat. \n  \nThis peanut butter drive is taking place in five locations on May 22\, 2021. Additional Spread the Love food drives are scheduled for June 5\, 2021. To see additional locations\, please view our list of food drives. \n  \nPrefer to donate online? Visit our virtual food drive!
URL:https://www.feedmorewny.org/event/spread-the-love-peanut-butter-drive-orchard-park-may-2021/
LOCATION:Orchard Park Chamber of Commerce\, 6524 E Quaker St\, Orchard Park\, NY\, 14127\, United States
CATEGORIES:Food Drive,Spread the Love
ORGANIZER;CN="FeedMore WNY":MAILTO:hello@feedmorewny.org
END:VEVENT
BEGIN:VEVENT
DTSTART;TZID=America/New_York:20210522T100000
DTEND;TZID=America/New_York:20210522T140000
DTSTAMP:20260424T080705
CREATED:20210503T164346Z
LAST-MODIFIED:20210520T144550Z
UID:14327-1621677600-1621692000@www.feedmorewny.org
SUMMARY:Spread the Love Peanut Butter Drive - Amherst
DESCRIPTION:Support FeedMore WNY by donating urgently needed peanut butter! Take part in the second annual Spread the Love peanut butter drive and support our neighbors in need. \n  \nThis “contactless” food drive will be held in the parking lot of Amherst Town Hall. Simply pull up in your vehicle and volunteers will collect your donation from your trunk or back seat. \n  \nThis peanut butter drive is taking place in five locations on May 22\, 2021. Additional Spread the Love food drives are scheduled for June 5\, 2021. To see additional locations\, please view our list of food drives. \n  \nPrefer to donate online? Visit our virtual food drive!
URL:https://www.feedmorewny.org/event/spread-the-love-peanut-butter-drive-amherst-may-2021/
LOCATION:Amherst Town Hall\, 5583 Main Street\, Amherst\, NY\, 14221\, United States
CATEGORIES:Food Drive,Spread the Love
ORGANIZER;CN="FeedMore WNY":MAILTO:hello@feedmorewny.org
END:VEVENT
BEGIN:VEVENT
DTSTART;TZID=America/New_York:20210522T100000
DTEND;TZID=America/New_York:20210522T140000
DTSTAMP:20260424T080705
CREATED:20210503T163537Z
LAST-MODIFIED:20210520T144552Z
UID:14326-1621677600-1621692000@www.feedmorewny.org
SUMMARY:Spread the Love Peanut Butter Drive - Buffalo
DESCRIPTION:Support FeedMore WNY by donating urgently needed peanut butter! \n  \nTake part in the second annual Spread the Love peanut butter drive and support our neighbors in need. This is a “contactless” food drive. Simply pull up in your vehicle and volunteers will collect your donation from your trunk or back seat. \n  \nThis peanut butter drive is taking place in five locations on May 22\, 2021. Additional Spread the Love food drives are scheduled for June 5\, 2021. To see additional locations\, please view our list of food drives. \n  \nPrefer to donate online? Visit our virtual food drive!
URL:https://www.feedmorewny.org/event/spread-the-love-peanut-butter-drive-buffalo-may-2021/
LOCATION:Lexington Cooperative Market (Hertel)\, 1678 Hertel Ave\, Buffalo\, NY\, 14216\, United States
CATEGORIES:Food Drive,Spread the Love
ORGANIZER;CN="FeedMore WNY":MAILTO:hello@feedmorewny.org
END:VEVENT
END:VCALENDAR