BEGIN:VCALENDAR
VERSION:2.0
PRODID:-//FeedMore WNY - ECPv6.4.0//NONSGML v1.0//EN
CALSCALE:GREGORIAN
METHOD:PUBLISH
X-ORIGINAL-URL:https://www.feedmorewny.org
X-WR-CALDESC:Events for FeedMore WNY
REFRESH-INTERVAL;VALUE=DURATION:PT1H
X-Robots-Tag:noindex
X-PUBLISHED-TTL:PT1H
BEGIN:VTIMEZONE
TZID:America/New_York
BEGIN:DAYLIGHT
TZOFFSETFROM:-0500
TZOFFSETTO:-0400
TZNAME:EDT
DTSTART:20210314T070000
END:DAYLIGHT
BEGIN:STANDARD
TZOFFSETFROM:-0400
TZOFFSETTO:-0500
TZNAME:EST
DTSTART:20211107T060000
END:STANDARD
END:VTIMEZONE
BEGIN:VEVENT
DTSTART;TZID=America/New_York:20211002T100000
DTEND;TZID=America/New_York:20211002T150000
DTSTAMP:20260420T121731
CREATED:20210907T181924Z
LAST-MODIFIED:20210907T182103Z
UID:16627-1633168800-1633186800@www.feedmorewny.org
SUMMARY:Pet Adopt-A-Thon and AniMeals Pet Food Drive
DESCRIPTION:WNY Furtastic is hosting an Adopt-A-Thon at Premier Dog Sports & Event Center in Lancaster on October 2\, 2021. Donate pet food to support FeedMore WNY’s AniMeals program. \n  \nFree admission. \n 
URL:https://www.feedmorewny.org/event/pet-adopt-a-thon-and-animeals-pet-food-drive/
LOCATION:Premier Dog Sports & Event Center\, 15 Lancaster Pkwy\, Lancaster\, NY\, 14086\, United States
CATEGORIES:AniMeals,Food Drive
END:VEVENT
END:VCALENDAR