BEGIN:VCALENDAR
VERSION:2.0
PRODID:-//FeedMore WNY - ECPv6.4.0//NONSGML v1.0//EN
CALSCALE:GREGORIAN
METHOD:PUBLISH
X-ORIGINAL-URL:https://www.feedmorewny.org
X-WR-CALDESC:Events for FeedMore WNY
REFRESH-INTERVAL;VALUE=DURATION:PT1H
X-Robots-Tag:noindex
X-PUBLISHED-TTL:PT1H
BEGIN:VTIMEZONE
TZID:America/New_York
BEGIN:DAYLIGHT
TZOFFSETFROM:-0500
TZOFFSETTO:-0400
TZNAME:EDT
DTSTART:20210314T070000
END:DAYLIGHT
BEGIN:STANDARD
TZOFFSETFROM:-0400
TZOFFSETTO:-0500
TZNAME:EST
DTSTART:20211107T060000
END:STANDARD
END:VTIMEZONE
BEGIN:VEVENT
DTSTART;TZID=America/New_York:20210715T191600
DTEND;TZID=America/New_York:20210716T235900
DTSTAMP:20260425T193705
CREATED:20210702T172236Z
LAST-MODIFIED:20210713T154906Z
UID:15613-1626376560-1626479940@www.feedmorewny.org
SUMMARY:Give716
DESCRIPTION:Give716 is a Day of Giving coordinated by the Buffalo Bills Foundation and Buffalo Sabres Foundation that will bring together individuals\, groups and businesses in support of nonprofit organizations in Western New York! Double your impact by donating during designated “power hours\,” where local organizations are matching gifts of $7.16 or more! The event begins July 15\, 2021 at 7:16 p.m. and runs through July 16\, 2021. \n  \n  \nStay tuned for information on how you can get involved with FeedMore WNY as part of this day of giving! \n  \nVisit our Give716 page by clicking here!
URL:https://www.feedmorewny.org/event/give716-2021/
LOCATION:Online Day of Giving
CATEGORIES:Fundraiser
ORGANIZER;CN="FeedMore WNY":MAILTO:hello@feedmorewny.org
END:VEVENT
END:VCALENDAR