BEGIN:VCALENDAR
VERSION:2.0
PRODID:-//FeedMore WNY - ECPv6.4.0//NONSGML v1.0//EN
CALSCALE:GREGORIAN
METHOD:PUBLISH
X-ORIGINAL-URL:https://www.feedmorewny.org
X-WR-CALDESC:Events for FeedMore WNY
REFRESH-INTERVAL;VALUE=DURATION:PT1H
X-Robots-Tag:noindex
X-PUBLISHED-TTL:PT1H
BEGIN:VTIMEZONE
TZID:America/New_York
BEGIN:DAYLIGHT
TZOFFSETFROM:-0500
TZOFFSETTO:-0400
TZNAME:EDT
DTSTART:20210314T070000
END:DAYLIGHT
BEGIN:STANDARD
TZOFFSETFROM:-0400
TZOFFSETTO:-0500
TZNAME:EST
DTSTART:20211107T060000
END:STANDARD
END:VTIMEZONE
BEGIN:VEVENT
DTSTART;VALUE=DATE:20210419
DTEND;VALUE=DATE:20210530
DTSTAMP:20260426T011212
CREATED:20210415T132028Z
LAST-MODIFIED:20210415T132028Z
UID:14110-1618790400-1622332799@www.feedmorewny.org
SUMMARY:Food Drive at Cleveland Hill Middle School
DESCRIPTION:The Cleveland Hill Middle School Student Council is holding a nonperishable food drive at Cleveland Hill Middle School. Donations can be made at 105 Mapleview Drive in Cheektowaga from April 19\, 2021 through May 29\, 2021.
URL:https://www.feedmorewny.org/event/food-drive-at-cleveland-hill-middle-school-2021/
LOCATION:Cleveland Hill Middle School\, 105 Mapleview Drive\, Cheektowaga\, NY\, 14225\, United States
CATEGORIES:Food Drive
END:VEVENT
BEGIN:VEVENT
DTSTART;VALUE=DATE:20210503
DTEND;VALUE=DATE:20210522
DTSTAMP:20260426T011212
CREATED:20210503T180208Z
LAST-MODIFIED:20210503T180208Z
UID:14391-1620000000-1621641599@www.feedmorewny.org
SUMMARY:Old Navy Food Drive (Niagara Falls Outlet Mall)
DESCRIPTION:Old Navy at Niagara Falls Outlet Mall is hosting a food drive! Donations can be dropped off in the FeedMore WNY barrel located at the store.
URL:https://www.feedmorewny.org/event/old-navy-food-drive-niagara-falls-outlet-mall-2021/
LOCATION:Old Navy (Niagara Falls Outlet Mall)\, 1900 Military Rd\, Niagara Falls\, NY\, 14304\, United States
CATEGORIES:Food Drive
END:VEVENT
BEGIN:VEVENT
DTSTART;VALUE=DATE:20210513
DTEND;VALUE=DATE:20210601
DTSTAMP:20260426T011212
CREATED:20210511T145904Z
LAST-MODIFIED:20210511T145904Z
UID:14478-1620864000-1622505599@www.feedmorewny.org
SUMMARY:Old Navy Food Drive (Williamsville\, NY)
DESCRIPTION:Old Navy in Williamsville is hosting a food drive! Donations can be dropped off in the FeedMore WNY barrel located at the store.
URL:https://www.feedmorewny.org/event/old-navy-food-drive-williamsville-ny-2021/
LOCATION:Old Navy (Williamsville\, NY)\, 5065 Transit Road\, Williamsville\, NY\, 14221\, United States
CATEGORIES:Food Drive
END:VEVENT
BEGIN:VEVENT
DTSTART;TZID=America/New_York:20210514T110000
DTEND;TZID=America/New_York:20210514T140000
DTSTAMP:20260426T011212
CREATED:20210503T200751Z
LAST-MODIFIED:20210503T200751Z
UID:14421-1620990000-1621000800@www.feedmorewny.org
SUMMARY:Ingram Micro Food Drive
DESCRIPTION:Support FeedMore WNY through this food drive by Ingram Micro! The FeedMore WNY truck will be at 1759 Wehrle Drive in Williamsville\, NY on May 14\, 2021. \n  \nFor a list of our current needs\, please view our healthy food wishlist!
URL:https://www.feedmorewny.org/event/ingram-micro-food-drive-may-2021/
LOCATION:Ingram Micro (Williamsville)\, 1759 Wehrle Drive\, Williamsville\, NY\, 14221\, United States
CATEGORIES:Food Drive
END:VEVENT
BEGIN:VEVENT
DTSTART;TZID=America/New_York:20210514T193000
DTEND;TZID=America/New_York:20210514T213000
DTSTAMP:20260426T011212
CREATED:20210413T175657Z
LAST-MODIFIED:20210413T175715Z
UID:14004-1621020600-1621027800@www.feedmorewny.org
SUMMARY:Tales from the Great Pause
DESCRIPTION:Post-Industrial Productions proudly presents Tales From The Great Pause: Burnout\, Balance\, & Bouncing Back\, a virtual fundraiser featuring new spoken word stories\, poems\, and monologues created by the Western New York community\, with all proceeds raised to benefit FeedMore of WNY. \n  \nPost-Industrial Productions is seeking 2-4-minute stories\, spoken word pieces\, poems\, or monologues (roughly 500 word limit) that can be performed by local actors for an audience on a virtual platform. These stories should address the past year (“The Great Pause”) during which our plans\, routines\, and even livelihoods were put on pause\, and the burnout that has resulted for many as we struggle to achieve balance in our daily lives while supporting those around us. Click here to submit your story.
URL:https://www.feedmorewny.org/event/tales-from-the-great-pause/
LOCATION:Digital Event\, United States
CATEGORIES:Fundraiser
END:VEVENT
END:VCALENDAR