BEGIN:VCALENDAR
VERSION:2.0
PRODID:-//FeedMore WNY - ECPv6.4.0//NONSGML v1.0//EN
CALSCALE:GREGORIAN
METHOD:PUBLISH
X-WR-CALNAME:FeedMore WNY
X-ORIGINAL-URL:https://www.feedmorewny.org
X-WR-CALDESC:Events for FeedMore WNY
REFRESH-INTERVAL;VALUE=DURATION:PT1H
X-Robots-Tag:noindex
X-PUBLISHED-TTL:PT1H
BEGIN:VTIMEZONE
TZID:America/New_York
BEGIN:DAYLIGHT
TZOFFSETFROM:-0500
TZOFFSETTO:-0400
TZNAME:EDT
DTSTART:20210314T070000
END:DAYLIGHT
BEGIN:STANDARD
TZOFFSETFROM:-0400
TZOFFSETTO:-0500
TZNAME:EST
DTSTART:20211107T060000
END:STANDARD
END:VTIMEZONE
BEGIN:VEVENT
DTSTART;VALUE=DATE:20210405
DTEND;VALUE=DATE:20210427
DTSTAMP:20260425T124253
CREATED:20210326T175417Z
LAST-MODIFIED:20210326T175913Z
UID:13689-1617580800-1619481599@www.feedmorewny.org
SUMMARY:FeedMore WNY Spring Plant Sale
DESCRIPTION:Orders for our spring plant sale open April 5\, 2021! More information will be posted to this page when the sale begins. \n  \nAdd beautiful flowers and plants to your home and garden while helping us provide food for our neighbors in need!
URL:https://www.feedmorewny.org/event/spring-plant-sale-2021/
LOCATION:Multiple Locations\, United States
CATEGORIES:Fundraiser
ORGANIZER;CN="Marinda Frazier":MAILTO:mfrazier@feedmorewny.org
END:VEVENT
END:VCALENDAR