BEGIN:VCALENDAR
VERSION:2.0
PRODID:-//FeedMore WNY - ECPv6.4.0//NONSGML v1.0//EN
CALSCALE:GREGORIAN
METHOD:PUBLISH
X-ORIGINAL-URL:https://www.feedmorewny.org
X-WR-CALDESC:Events for FeedMore WNY
REFRESH-INTERVAL;VALUE=DURATION:PT1H
X-Robots-Tag:noindex
X-PUBLISHED-TTL:PT1H
BEGIN:VTIMEZONE
TZID:America/New_York
BEGIN:DAYLIGHT
TZOFFSETFROM:-0500
TZOFFSETTO:-0400
TZNAME:EDT
DTSTART:20210314T070000
END:DAYLIGHT
BEGIN:STANDARD
TZOFFSETFROM:-0400
TZOFFSETTO:-0500
TZNAME:EST
DTSTART:20211107T060000
END:STANDARD
END:VTIMEZONE
BEGIN:VEVENT
DTSTART;TZID=America/New_York:20210209T110000
DTEND;TZID=America/New_York:20210209T130000
DTSTAMP:20260426T042502
CREATED:20210205T163911Z
LAST-MODIFIED:20210205T163911Z
UID:12876-1612868400-1612875600@www.feedmorewny.org
SUMMARY:FeedMore WNY Farm Market
DESCRIPTION:Fresh\, healthy produce available for purchase. All are welcome! Produce will be available until sold out. \n  \nQuestions about the farm market? Call (716) 822-2005 ext. 3076. \n  \n 
URL:https://www.feedmorewny.org/event/feedmore-wny-farm-market-2-9-2021/
LOCATION:Family Help Center\, 60 Dingens Street\, Buffalo\, NY\, 14206\, United States
CATEGORIES:FeedMore WNY Farm Market
ORGANIZER;CN="FeedMore WNY":MAILTO:hello@feedmorewny.org
END:VEVENT
END:VCALENDAR