BEGIN:VCALENDAR
VERSION:2.0
PRODID:-//FeedMore WNY - ECPv6.4.0//NONSGML v1.0//EN
CALSCALE:GREGORIAN
METHOD:PUBLISH
X-ORIGINAL-URL:https://www.feedmorewny.org
X-WR-CALDESC:Events for FeedMore WNY
REFRESH-INTERVAL;VALUE=DURATION:PT1H
X-Robots-Tag:noindex
X-PUBLISHED-TTL:PT1H
BEGIN:VTIMEZONE
TZID:America/New_York
BEGIN:DAYLIGHT
TZOFFSETFROM:-0500
TZOFFSETTO:-0400
TZNAME:EDT
DTSTART:20210314T070000
END:DAYLIGHT
BEGIN:STANDARD
TZOFFSETFROM:-0400
TZOFFSETTO:-0500
TZNAME:EST
DTSTART:20211107T060000
END:STANDARD
END:VTIMEZONE
BEGIN:VEVENT
DTSTART;TZID=America/New_York:20210116T100000
DTEND;TZID=America/New_York:20210116T140000
DTSTAMP:20260425T210809
CREATED:20210113T155232Z
LAST-MODIFIED:20210113T155503Z
UID:12464-1610791200-1610805600@www.feedmorewny.org
SUMMARY:Contactless Food and Clothing Collection Drive
DESCRIPTION:There will be a food and clothing collection drive at Lancaster Central High School on January 16\, 2021. This drive will be contactless – simply pull up and volunteers will safely collect your donation from your vehicle.\n 
URL:https://www.feedmorewny.org/event/food-drive-at-lancaster-high-school-january-16-2021/
LOCATION:Lancaster Central High School\, 1 Forton Drive\, Lancaster\, NY\, 14086\, United States
END:VEVENT
END:VCALENDAR