BEGIN:VCALENDAR
VERSION:2.0
PRODID:-//FeedMore WNY - ECPv6.4.0//NONSGML v1.0//EN
CALSCALE:GREGORIAN
METHOD:PUBLISH
X-WR-CALNAME:FeedMore WNY
X-ORIGINAL-URL:https://www.feedmorewny.org
X-WR-CALDESC:Events for FeedMore WNY
REFRESH-INTERVAL;VALUE=DURATION:PT1H
X-Robots-Tag:noindex
X-PUBLISHED-TTL:PT1H
BEGIN:VTIMEZONE
TZID:America/New_York
BEGIN:DAYLIGHT
TZOFFSETFROM:-0500
TZOFFSETTO:-0400
TZNAME:EDT
DTSTART:20200308T070000
END:DAYLIGHT
BEGIN:STANDARD
TZOFFSETFROM:-0400
TZOFFSETTO:-0500
TZNAME:EST
DTSTART:20201101T060000
END:STANDARD
END:VTIMEZONE
BEGIN:VEVENT
DTSTART;VALUE=DATE:20201101
DTEND;VALUE=DATE:20201201
DTSTAMP:20260425T193731
CREATED:20201104T160009Z
LAST-MODIFIED:20201105T144629Z
UID:11435-1604188800-1606780799@www.feedmorewny.org
SUMMARY:YMCA Turkey Trot Food Drive
DESCRIPTION:For the tenth straight year\, YMCA Buffalo Niagara is teaming up with FeedMore WNY to help fight hunger this holiday season. The community is asked to bring non-perishable food items to any local YMCA branch during the month of November. YMCA Virtual Turkey Trot participants can also drop off donations during curbside packet-pickup on Tuesday\, November 24 and Wednesday\, November 25 at the Independent Health YMCA\, Southtowns YMCA\, Lockport YMCA\, and YMCA Buffalo Niagara Association Office. \n“We are grateful to YMCA Buffalo Niagara\, WGRZ-TV Channel 2 and the Western New York community for helping FeedMore WNY nourish our hungry neighbors through this critical food drive\,” Tara A. Ellis\, president and CEO of FeedMore WNY\, said. “Unfortunately\, one in six individuals in FeedMore WNY’s service area struggles with hunger. Thanks to the support of our generous community partners\, we are able to continue our mission of offering dignity\, hope and a brighter future to our Western New York neighbors in need.” \n“The YMCA is excited to once again partner with FeedMore WNY for this important cause\,” says Mary Ilarraza\, Communications Director for YMCA Buffalo Niagara. “We’re confident that the Western New York community will help us feed more families this year.”
URL:https://www.feedmorewny.org/event/ymca-turkey-trot-food-drive-2020/
LOCATION:Multiple Locations\, United States
END:VEVENT
BEGIN:VEVENT
DTSTART;VALUE=DATE:20201106
DTEND;VALUE=DATE:20201124
DTSTAMP:20260425T193731
CREATED:20201109T203855Z
LAST-MODIFIED:20201109T204200Z
UID:11801-1604620800-1606175999@www.feedmorewny.org
SUMMARY:FeedMore WNY Wreath Sale
DESCRIPTION:Purchase a wreath or centerpiece and help provide meals for our neighbors in need this holiday season! Orders are due November 23\, 2020. Wreaths will be available for pick-up on December 4-5\, 2020. \n  \nClick here to order: https://www.feedmorewny.org/wreath-sale/
URL:https://www.feedmorewny.org/event/feedmore-wny-wreath-sale-2020/
LOCATION:Multiple Locations\, United States
ORGANIZER;CN="FeedMore WNY":MAILTO:hello@feedmorewny.org
END:VEVENT
BEGIN:VEVENT
DTSTART;VALUE=DATE:20201117
DTEND;VALUE=DATE:20201125
DTSTAMP:20260425T193731
CREATED:20201102T183433Z
LAST-MODIFIED:20201102T184539Z
UID:11350-1605571200-1606262399@www.feedmorewny.org
SUMMARY:Rock Out Hunger with DJ Jickster
DESCRIPTION:The 15th annual Rock Out Hunger food drive\, benefiting FeedMore WNY\, will be held at Millard Fillmore Suburban Hospital on November 17 through November 24\, 2020. \n  \nJoin 97 Rock’s DJ Jickster as he spends one week in a FeedMore WNY trailer\, collecting nonperishable and perishable items for those in need this holiday season. Stop by Millard Fillmore Suburban Hospital to meet DJ Jickster and contribute to this important annual food drive! \n  \nPrefer to contribute from home? Make a donation through the Rock Out Hunger virtual food drive by clicking here! \n  \nRock Out Hunger is presented by 97 Rock\, Kaleida Health and WKBW Channel 7.
URL:https://www.feedmorewny.org/event/rock-out-hunger-with-dj-jickster/
LOCATION:Millard Fillmore Suburban Hospital\, 1540 Maple Rd\, Williamsville\, NY\, 14221\, United States
END:VEVENT
END:VCALENDAR