BEGIN:VCALENDAR
VERSION:2.0
PRODID:-//FeedMore WNY - ECPv6.4.0//NONSGML v1.0//EN
CALSCALE:GREGORIAN
METHOD:PUBLISH
X-ORIGINAL-URL:https://www.feedmorewny.org
X-WR-CALDESC:Events for FeedMore WNY
REFRESH-INTERVAL;VALUE=DURATION:PT1H
X-Robots-Tag:noindex
X-PUBLISHED-TTL:PT1H
BEGIN:VTIMEZONE
TZID:America/New_York
BEGIN:DAYLIGHT
TZOFFSETFROM:-0500
TZOFFSETTO:-0400
TZNAME:EDT
DTSTART:20200308T070000
END:DAYLIGHT
BEGIN:STANDARD
TZOFFSETFROM:-0400
TZOFFSETTO:-0500
TZNAME:EST
DTSTART:20201101T060000
END:STANDARD
END:VTIMEZONE
BEGIN:VEVENT
DTSTART;VALUE=DATE:20201003
DTEND;VALUE=DATE:20201011
DTSTAMP:20260425T141344
CREATED:20200818T140447Z
LAST-MODIFIED:20200904T183951Z
UID:9883-1601683200-1602374399@www.feedmorewny.org
SUMMARY:Walk Off Hunger
DESCRIPTION:Presented by M&T Bank\, this hybrid of the traditional Walk Off Hunger event offers several ways to participate including attending a socially-distant meet-up walk event\, downloading a DIY walk route or choosing your own favorite trail. Set up your virtual team pages and online fundraise to make an even bigger impact! Join us and help provide nutritious food to the growing number of our WNY neighbors in need. \n  \nYou can help Walk Off Hunger by being a part of this year’s unique event! General registration is $25 and groups of 4 or more can register for $20 each. Participants under the age of 15 are free. \n  \nAll registered participants receive a FeedMore WNY mask and tote bag. \n  \nOnce you register\, create your own JustGiving fundraising page to make a greater impact\, providing food security for even more of our WNY neighbors in need. \n 
URL:https://www.feedmorewny.org/event/walk-off-hunger-2020/
LOCATION:Multiple Locations\, United States
ORGANIZER;CN="FeedMore WNY":MAILTO:hello@feedmorewny.org
END:VEVENT
END:VCALENDAR