BEGIN:VCALENDAR
VERSION:2.0
PRODID:-//FeedMore WNY - ECPv6.4.0//NONSGML v1.0//EN
CALSCALE:GREGORIAN
METHOD:PUBLISH
X-ORIGINAL-URL:https://www.feedmorewny.org
X-WR-CALDESC:Events for FeedMore WNY
REFRESH-INTERVAL;VALUE=DURATION:PT1H
X-Robots-Tag:noindex
X-PUBLISHED-TTL:PT1H
BEGIN:VTIMEZONE
TZID:America/New_York
BEGIN:DAYLIGHT
TZOFFSETFROM:-0500
TZOFFSETTO:-0400
TZNAME:EDT
DTSTART:20200308T070000
END:DAYLIGHT
BEGIN:STANDARD
TZOFFSETFROM:-0400
TZOFFSETTO:-0500
TZNAME:EST
DTSTART:20201101T060000
END:STANDARD
END:VTIMEZONE
BEGIN:VEVENT
DTSTART;VALUE=DATE:20200723
DTEND;VALUE=DATE:20201002
DTSTAMP:20260426T022047
CREATED:20200812T171912Z
LAST-MODIFIED:20201001T171818Z
UID:9669-1595462400-1601596799@www.feedmorewny.org
SUMMARY:City of Good Neighbor Virtual Run - hosted by Runner's Roost
DESCRIPTION:Runner’s Roost is hosting the City of Good Neighbors Virtual Run – 385 miles from Buffalo’s City Hall to the White House. Individuals and relay teams of four can register online until October 1\, 2020 at 11:59pm EDT. Race information must be added by November 26\, 2o20. \n  \nA portion of each entry fee will be directed to support three local non-profit organizations including FeedMore WNY. \n  \nLearn more at www.cityofgoodneighborsvirtualrun.com \n 
URL:https://www.feedmorewny.org/event/city-of-good-neighbor-virtual-run-hosted-by-runners-roost/
LOCATION:Digital Event\, United States
ORGANIZER;CN="Runner's Roost":MAILTO:info@therunnersroost.com
END:VEVENT
BEGIN:VEVENT
DTSTART;TZID=America/New_York:20200918T160000
DTEND;TZID=America/New_York:20200918T200000
DTSTAMP:20260426T022047
CREATED:20200904T182534Z
LAST-MODIFIED:20200904T183647Z
UID:10405-1600444800-1600459200@www.feedmorewny.org
SUMMARY:Huddle For Hunger - Friday Food Drive
DESCRIPTION:The Buffalo Bills Foundation\, Independent Health Foundation and News 4 Buffalo WIVB-TV are teaming up with FeedMore WNY to present Huddle for Hunger! The food and funds donated through Huddle for Hunger will help FeedMore WNY tackle the growing problem of childhood hunger in WNY. \n  \nMeet Buffalo Bills legends and mascot Billy Buffalo while enjoying music and entertainment from DJ Milk and The Stampede! The first 5\,000 fans to donate will receive a Huddle for Hunger face mask (limit 2 per car).
URL:https://www.feedmorewny.org/event/huddle-for-hunger-friday-night-lights/
LOCATION:Bills Stadium\, Orchard Park\, NY\, 14127\, United States
END:VEVENT
END:VCALENDAR