BEGIN:VCALENDAR
VERSION:2.0
PRODID:-//FeedMore WNY - ECPv6.4.0//NONSGML v1.0//EN
CALSCALE:GREGORIAN
METHOD:PUBLISH
X-WR-CALNAME:FeedMore WNY
X-ORIGINAL-URL:https://www.feedmorewny.org
X-WR-CALDESC:Events for FeedMore WNY
REFRESH-INTERVAL;VALUE=DURATION:PT1H
X-Robots-Tag:noindex
X-PUBLISHED-TTL:PT1H
BEGIN:VTIMEZONE
TZID:America/New_York
BEGIN:DAYLIGHT
TZOFFSETFROM:-0500
TZOFFSETTO:-0400
TZNAME:EDT
DTSTART:20200308T070000
END:DAYLIGHT
BEGIN:STANDARD
TZOFFSETFROM:-0400
TZOFFSETTO:-0500
TZNAME:EST
DTSTART:20201101T060000
END:STANDARD
END:VTIMEZONE
BEGIN:VEVENT
DTSTART;TZID=America/New_York:20200717T160000
DTEND;TZID=America/New_York:20200717T190000
DTSTAMP:20260425T233805
CREATED:20200706T175632Z
LAST-MODIFIED:20200708T192829Z
UID:9042-1595001600-1595012400@www.feedmorewny.org
SUMMARY:Erie County 4-H Non-perishable Food Drive
DESCRIPTION:Erie County 4-H is hosting a food drive at two locations on July 17\, 2020 from 4:00 p.m. to 7:00 p.m. \n  \nDonations can be dropped off at: \n  \n\nErie County 4-H Office\n21 South Grove St\nEast Aurora\, NY\nDelevan Grider Community Center\n877 E Delavan Ave\nBuffalo\, NY
URL:https://www.feedmorewny.org/event/erie-county-4-h-non-perishable-food-drive/
LOCATION:Erie County 4-H Office\, 21 South Grove St.\, East Aurora\, NY\, 14052\, United States
END:VEVENT
END:VCALENDAR