BEGIN:VCALENDAR
VERSION:2.0
PRODID:-//FeedMore WNY - ECPv6.4.0//NONSGML v1.0//EN
CALSCALE:GREGORIAN
METHOD:PUBLISH
X-WR-CALNAME:FeedMore WNY
X-ORIGINAL-URL:https://www.feedmorewny.org
X-WR-CALDESC:Events for FeedMore WNY
REFRESH-INTERVAL;VALUE=DURATION:PT1H
X-Robots-Tag:noindex
X-PUBLISHED-TTL:PT1H
BEGIN:VTIMEZONE
TZID:America/New_York
BEGIN:DAYLIGHT
TZOFFSETFROM:-0500
TZOFFSETTO:-0400
TZNAME:EDT
DTSTART:20200308T070000
END:DAYLIGHT
BEGIN:STANDARD
TZOFFSETFROM:-0400
TZOFFSETTO:-0500
TZNAME:EST
DTSTART:20201101T060000
END:STANDARD
END:VTIMEZONE
BEGIN:VEVENT
DTSTART;VALUE=DATE:20200711
DTEND;VALUE=DATE:20200713
DTSTAMP:20260425T193737
CREATED:20200708T193924Z
LAST-MODIFIED:20200708T193924Z
UID:9188-1594425600-1594598399@www.feedmorewny.org
SUMMARY:Taste of Buffalo at Home - Virtual Tickets benefiting FeedMore WNY
DESCRIPTION:You can help Raise Money for FeedMore WNY at this year’s virtual Taste of Buffalo! Purchase digital “food tickets” just like you would at the in-person festival! \nEach $5 ticket is a donation to FeedMore WNY’s programs and services. \n  \nSupport FeedMore WNY by clicking here! \nLearn more about this year’s Taste of Buffalo in their “virtual festival guide!”
URL:https://www.feedmorewny.org/event/taste-of-buffalo-at-home-virtual-tickets-benefiting-feedmore-wny/
LOCATION:Digital Event\, United States
END:VEVENT
END:VCALENDAR