BEGIN:VCALENDAR
VERSION:2.0
PRODID:-//FeedMore WNY - ECPv6.4.0//NONSGML v1.0//EN
CALSCALE:GREGORIAN
METHOD:PUBLISH
X-WR-CALNAME:FeedMore WNY
X-ORIGINAL-URL:https://www.feedmorewny.org
X-WR-CALDESC:Events for FeedMore WNY
REFRESH-INTERVAL;VALUE=DURATION:PT1H
X-Robots-Tag:noindex
X-PUBLISHED-TTL:PT1H
BEGIN:VTIMEZONE
TZID:America/New_York
BEGIN:DAYLIGHT
TZOFFSETFROM:-0500
TZOFFSETTO:-0400
TZNAME:EDT
DTSTART:20200308T070000
END:DAYLIGHT
BEGIN:STANDARD
TZOFFSETFROM:-0400
TZOFFSETTO:-0500
TZNAME:EST
DTSTART:20201101T060000
END:STANDARD
END:VTIMEZONE
BEGIN:VEVENT
DTSTART;TZID=America/New_York:20200707T090000
DTEND;TZID=America/New_York:20200707T123000
DTSTAMP:20260425T222005
CREATED:20200706T172049Z
LAST-MODIFIED:20200706T203822Z
UID:9018-1594112400-1594125000@www.feedmorewny.org
SUMMARY:#BuffaloStrong Day of Giving Food Drive - Dash's Market on Hertel
DESCRIPTION:On Tuesday July 7\, 2020\, join us for the #BuffaloStrong Day of Giving! \n  \nThe #BuffaloStrong campaign has provided thousands of meals for families in need of extra help since the start of the COVID-19 crisis. We’re so appreciative of all those who came together to help our neighbors in need – organizing food drives\, making donations\, taking part in a virtual 7K\, and volunteering their time. But even as community members return back to work\, many Western New Yorkers will continue to experience financial hardship and food insecurity for months to come. \n  \nIn collaboration with 7 Eyewitness News WKBW and Retro Buffalo\, this Day of Giving will help us provide nutritious food to vulnerable children\, families\, and older community members during these challenging times. \n  \nWe’ll be hosting two contactless food drives on July 7\, 2020: \n\n9:00 a.m. to 12:30 p.m. at Dash’s Market on Hertel Avenue (1770 Hertel Ave #3002\, Buffalo\, NY)\n4:00 p.m. to 7:00 p.m. at the Erie County Fairgrounds – South Park Entrance (5820 South Park Avenue\, Hamburg\, NY)\n\nYou also can support our vital programs and services by making a donation online! With your support\, FeedMore WNY can continue to provide more food and more good to our WNY neighbors in need. \n 
URL:https://www.feedmorewny.org/event/buffalostrong-day-of-giving-food-drive-dashs-market-on-hertel-2020/
LOCATION:Dash’s Markets on Hertel Ave\, 1770 Hertel Ave #3002\, Buffalo\, NY\, 14216\, United States
ORGANIZER;CN="FeedMore WNY":MAILTO:hello@feedmorewny.org
END:VEVENT
BEGIN:VEVENT
DTSTART;TZID=America/New_York:20200707T160000
DTEND;TZID=America/New_York:20200707T190000
DTSTAMP:20260425T222005
CREATED:20200706T173434Z
LAST-MODIFIED:20200706T203828Z
UID:9025-1594137600-1594148400@www.feedmorewny.org
SUMMARY:#BuffaloStrong Day of Giving Food Drive - Erie County Fairgrounds
DESCRIPTION:On Tuesday July 7\, 2020\, join us for the #BuffaloStrong Day of Giving! \n  \nThe #BuffaloStrong campaign has provided thousands of meals for families in need of extra help since the start of the COVID-19 crisis. We’re so appreciative of all those who came together to help our neighbors in need – organizing food drives\, making donations\, taking part in a virtual 7K\, and volunteering their time. But even as community members return back to work\, many Western New Yorkers will continue to experience financial hardship and food insecurity for months to come. \n  \nIn collaboration with 7 Eyewitness News WKBW and Retro Buffalo\, this Day of Giving will help us provide nutritious food to vulnerable children\, families\, and older community members during these challenging times. \n  \nWe’ll be hosting two contactless food drives on July 7\, 2020: \n\n9:00 a.m. to 12:30 p.m. at Dash’s Market on Hertel Avenue (1770 Hertel Ave #3002\, Buffalo\, NY)\n4:00 p.m. to 7:00 p.m. at the Erie County Fairgrounds – South Park Entrance (5820 South Park Avenue\, Hamburg\, NY)\n\nYou also can support our vital programs and services by making a donation online! With your support\, FeedMore WNY can continue to provide more food and more good to our WNY neighbors in need. \n 
URL:https://www.feedmorewny.org/event/buffalostrong-day-of-giving-food-drive-ec-fairgrounds-2020/
LOCATION:Hamburg Fairgrounds (South Park entrance)\, 5820 South Park Ave\, Hamburg\, 14075
ORGANIZER;CN="FeedMore WNY":MAILTO:hello@feedmorewny.org
END:VEVENT
END:VCALENDAR