BEGIN:VCALENDAR
VERSION:2.0
PRODID:-//FeedMore WNY - ECPv6.4.0//NONSGML v1.0//EN
CALSCALE:GREGORIAN
METHOD:PUBLISH
X-ORIGINAL-URL:https://www.feedmorewny.org
X-WR-CALDESC:Events for FeedMore WNY
REFRESH-INTERVAL;VALUE=DURATION:PT1H
X-Robots-Tag:noindex
X-PUBLISHED-TTL:PT1H
BEGIN:VTIMEZONE
TZID:America/New_York
BEGIN:DAYLIGHT
TZOFFSETFROM:-0500
TZOFFSETTO:-0400
TZNAME:EDT
DTSTART:20200308T070000
END:DAYLIGHT
BEGIN:STANDARD
TZOFFSETFROM:-0400
TZOFFSETTO:-0500
TZNAME:EST
DTSTART:20201101T060000
END:STANDARD
END:VTIMEZONE
BEGIN:VEVENT
DTSTART;TZID=America/New_York:20200620T190000
DTEND;TZID=America/New_York:20200620T220000
DTSTAMP:20260425T210753
CREATED:20200609T192200Z
LAST-MODIFIED:20200609T192200Z
UID:8208-1592679600-1592690400@www.feedmorewny.org
SUMMARY:"Cruise for a Cause" by Grand Lady Cruises
DESCRIPTION:Grand Lady Cruises is kicking off their 2020 season with a cruise supporting FeedMore WNY! Tickets are $30.00 per person (ages 13+ only)\, with 15% of all sales being directly donated to FeedMore WNY. \nBoarding time will begin at 7:00pm on June 20\, 2020. Sail time is 7:30 p.m. to 9:30 p.m. from Buffalo RiverWorks. Tickets include a two-hour cruise along the Buffalo River to Lake Erie and Buffalo Harbor\, with live music by Josh Geercken and a cash bar. 15% of bar sales will be donated to FeedMore WNY. Space is limited so be sure to reserve your space on board! \nGrand Lady Cruises will be collecting non-perishable food donations at boarding. \nIn order to make your cruise as safe and enjoyable as possible\, Grand Lady Cruises has implemented strict cleaning protocols and will be operating at a reduced capacity to allow for social distancing. Guests will be required to wear a mask for boarding\, disembarking\, and whenever moving around the vessel. For more information about our COVID-19 related safety policies\, please visit www.grandlady.com
URL:https://www.feedmorewny.org/event/cruise-for-a-cause-by-grand-lady-cruises/
LOCATION:Kitchen Sink
END:VEVENT
END:VCALENDAR