BEGIN:VCALENDAR
VERSION:2.0
PRODID:-//FeedMore WNY - ECPv6.4.0//NONSGML v1.0//EN
CALSCALE:GREGORIAN
METHOD:PUBLISH
X-WR-CALNAME:FeedMore WNY
X-ORIGINAL-URL:https://www.feedmorewny.org
X-WR-CALDESC:Events for FeedMore WNY
REFRESH-INTERVAL;VALUE=DURATION:PT1H
X-Robots-Tag:noindex
X-PUBLISHED-TTL:PT1H
BEGIN:VTIMEZONE
TZID:America/New_York
BEGIN:DAYLIGHT
TZOFFSETFROM:-0500
TZOFFSETTO:-0400
TZNAME:EDT
DTSTART:20200308T070000
END:DAYLIGHT
BEGIN:STANDARD
TZOFFSETFROM:-0400
TZOFFSETTO:-0500
TZNAME:EST
DTSTART:20201101T060000
END:STANDARD
END:VTIMEZONE
BEGIN:VEVENT
DTSTART;TZID=America/New_York:20200605T120000
DTEND;TZID=America/New_York:20200605T180000
DTSTAMP:20260425T193743
CREATED:20200529T151426Z
LAST-MODIFIED:20200529T151426Z
UID:8233-1591358400-1591380000@www.feedmorewny.org
SUMMARY:Chiavetta's Catering & Resurgence Brewing Co. Drive-thru Chicken BBQ
DESCRIPTION:Chiavetta’s Catering and Resurgence Brewing Co. will be hosting a drive-thru BBQ on Friday\, June 5\, 2020 from noon to 6:00 p.m. at 55 Chicago St\, Buffalo\, NY! \nMeals include a half-chicken\, potato salad\, macaroni salad and rolls. A portion of the proceeds benefit FeedMore WNY!
URL:https://www.feedmorewny.org/event/chiavettas-catering-resurgence-brewing-co-drive-thru-chicken-bbq-2/
END:VEVENT
END:VCALENDAR