BEGIN:VCALENDAR
VERSION:2.0
PRODID:-//FeedMore WNY - ECPv6.4.0//NONSGML v1.0//EN
CALSCALE:GREGORIAN
METHOD:PUBLISH
X-ORIGINAL-URL:https://www.feedmorewny.org
X-WR-CALDESC:Events for FeedMore WNY
REFRESH-INTERVAL;VALUE=DURATION:PT1H
X-Robots-Tag:noindex
X-PUBLISHED-TTL:PT1H
BEGIN:VTIMEZONE
TZID:America/New_York
BEGIN:DAYLIGHT
TZOFFSETFROM:-0500
TZOFFSETTO:-0400
TZNAME:EDT
DTSTART:20200308T070000
END:DAYLIGHT
BEGIN:STANDARD
TZOFFSETFROM:-0400
TZOFFSETTO:-0500
TZNAME:EST
DTSTART:20201101T060000
END:STANDARD
END:VTIMEZONE
BEGIN:VEVENT
DTSTART;VALUE=DATE:20200602
DTEND;VALUE=DATE:20200603
DTSTAMP:20260425T170111
CREATED:20200529T152209Z
LAST-MODIFIED:20200529T152209Z
UID:8234-1591056000-1591142399@www.feedmorewny.org
SUMMARY:43North/GroupRaise's Takeout for Good
DESCRIPTION:43North portfolio company GroupRaise is hosting a nationwide effort to support food banks and restaurants called Takeout for Good on Tuesday\, June 2nd. More than 1\,500 restaurants across the country have signed up to donate a portion of their sales (15-25%) from the event to their local food bank\, including several right here in Western New York. \nTo see a list of participating restaurants benefiting FeedMore WNY\, visit: https://www.43north.org/takeout-for-good/
URL:https://www.feedmorewny.org/event/43north-groupraises-takeout-for-good-2/
END:VEVENT
END:VCALENDAR