BEGIN:VCALENDAR
VERSION:2.0
PRODID:-//FeedMore WNY - ECPv6.4.0//NONSGML v1.0//EN
CALSCALE:GREGORIAN
METHOD:PUBLISH
X-WR-CALNAME:FeedMore WNY
X-ORIGINAL-URL:https://www.feedmorewny.org
X-WR-CALDESC:Events for FeedMore WNY
REFRESH-INTERVAL;VALUE=DURATION:PT1H
X-Robots-Tag:noindex
X-PUBLISHED-TTL:PT1H
BEGIN:VTIMEZONE
TZID:America/New_York
BEGIN:DAYLIGHT
TZOFFSETFROM:-0500
TZOFFSETTO:-0400
TZNAME:EDT
DTSTART:20190310T070000
END:DAYLIGHT
BEGIN:STANDARD
TZOFFSETFROM:-0400
TZOFFSETTO:-0500
TZNAME:EST
DTSTART:20191103T060000
END:STANDARD
BEGIN:DAYLIGHT
TZOFFSETFROM:-0500
TZOFFSETTO:-0400
TZNAME:EDT
DTSTART:20200308T070000
END:DAYLIGHT
BEGIN:STANDARD
TZOFFSETFROM:-0400
TZOFFSETTO:-0500
TZNAME:EST
DTSTART:20201101T060000
END:STANDARD
END:VTIMEZONE
BEGIN:VEVENT
DTSTART;VALUE=DATE:20191001
DTEND;VALUE=DATE:20200601
DTSTAMP:20260425T210854
CREATED:20200305T161440Z
LAST-MODIFIED:20200305T161440Z
UID:8134-1569888000-1590969599@www.feedmorewny.org
SUMMARY:Check Out Hunger 2020
DESCRIPTION:For a donation of $2\, $3 or $5 at the checkout of participating retailers\, you can help us provide food for those in need. The proceeds from this annual campaign fund FeedMore WNY’s ongoing programs and services.\n[fusion_button link=”https://www.foodbankwny.org/check-out-hunger/” text_transform=”none” title=”” target=”_self” link_attributes=”” alignment=”” modal=”” hide_on_mobile=”small-visibility\,medium-visibility\,large-visibility” class=”” id=”” color=”default” button_gradient_top_color=”” button_gradient_bottom_color=”” button_gradient_top_color_hover=”” button_gradient_bottom_color_hover=”” accent_color=”” accent_hover_color=”” type=”” bevel_color=”” border_width=”” size=”xlarge” stretch=”default” shape=”” icon=”” icon_position=”left” icon_divider=”no” animation_type=”” animation_direction=”left” animation_speed=”0.3″ animation_offset=””]Click here to see all participating Check Out hunger locations![/fusion_button] \nThank you to all of the participating retailers supporting our programs through this year’s campaign!
URL:https://www.feedmorewny.org/event/check-out-hunger-2020/
END:VEVENT
BEGIN:VEVENT
DTSTART;VALUE=DATE:20191001
DTEND;VALUE=DATE:20200601
DTSTAMP:20260425T210854
CREATED:20200305T161440Z
LAST-MODIFIED:20200305T161440Z
UID:8199-1569888000-1590969599@www.feedmorewny.org
SUMMARY:Check Out Hunger 2020
DESCRIPTION:For a donation of $2\, $3 or $5 at the checkout of participating retailers\, you can help us provide food for those in need. The proceeds from this annual campaign fund FeedMore WNY’s ongoing programs and services.\n[fusion_button link=”https://www.foodbankwny.org/check-out-hunger/” text_transform=”none” title=”” target=”_self” link_attributes=”” alignment=”” modal=”” hide_on_mobile=”small-visibility\,medium-visibility\,large-visibility” class=”” id=”” color=”default” button_gradient_top_color=”” button_gradient_bottom_color=”” button_gradient_top_color_hover=”” button_gradient_bottom_color_hover=”” accent_color=”” accent_hover_color=”” type=”” bevel_color=”” border_width=”” size=”xlarge” stretch=”default” shape=”” icon=”” icon_position=”left” icon_divider=”no” animation_type=”” animation_direction=”left” animation_speed=”0.3″ animation_offset=””]Click here to see all participating Check Out hunger locations![/fusion_button] \nThank you to all of the participating retailers supporting our programs through this year’s campaign!
URL:https://www.feedmorewny.org/event/check-out-hunger-2020-2/
END:VEVENT
BEGIN:VEVENT
DTSTART;TZID=America/New_York:20200530T090000
DTEND;TZID=America/New_York:20200530T120000
DTSTAMP:20260425T210854
CREATED:20200529T170305Z
LAST-MODIFIED:20200529T170305Z
UID:8191-1590829200-1590840000@www.feedmorewny.org
SUMMARY:Masons Contactless Food Drive for FeedMore WNY
DESCRIPTION:The Free and Accepted Masons of the State of NY will be sponsoring two\, non-contact food drives on May 30\, 2020 from 9:00 a.m. until noon. This is a drive-up\, contact-less food drive. \nDate: Saturday\, May 30\, 2020\nTime: 9:00 a.m. to 12:00 p.m. \nThe food drive will take place in two locations: \nSweet Home Masonic Temple\nSweet Home Lodge 948\n641 Sweet Home Rd\, Amherst\, NY\, 14226 \nValley of Buffalo\nRenaissance Lodge 1148\n2379 Union Rd. Cheektowaga NY 14227
URL:https://www.feedmorewny.org/event/masonsfooddrive-may2020/
END:VEVENT
BEGIN:VEVENT
DTSTART;TZID=America/New_York:20200530T090000
DTEND;TZID=America/New_York:20200530T120000
DTSTAMP:20260425T210854
CREATED:20200529T170305Z
LAST-MODIFIED:20200529T170305Z
UID:8235-1590829200-1590840000@www.feedmorewny.org
SUMMARY:Masons Contactless Food Drive for FeedMore WNY
DESCRIPTION:The Free and Accepted Masons of the State of NY will be sponsoring two\, non-contact food drives on May 30\, 2020 from 9:00 a.m. until noon. This is a drive-up\, contact-less food drive. \nDate: Saturday\, May 30\, 2020\nTime: 9:00 a.m. to 12:00 p.m. \nThe food drive will take place in two locations: \nSweet Home Masonic Temple\nSweet Home Lodge 948\n641 Sweet Home Rd\, Amherst\, NY\, 14226 \nValley of Buffalo\nRenaissance Lodge 1148\n2379 Union Rd. Cheektowaga NY 14227
URL:https://www.feedmorewny.org/event/masonsfooddrive-may2020-2/
END:VEVENT
BEGIN:VEVENT
DTSTART;TZID=America/New_York:20200530T100000
DTEND;TZID=America/New_York:20200530T130000
DTSTAMP:20260425T210854
CREATED:20200527T162702Z
LAST-MODIFIED:20200527T162702Z
UID:8181-1590832800-1590843600@www.feedmorewny.org
SUMMARY:Delaware Soccer Club Contactless Food Drive
DESCRIPTION:Saturday May 30th from 10:00-1:00\, Delaware Soccer Club will be collecting non-perishable goods at the DSC office located at 1424 Hertel Ave\, Buffalo\, New York 14216. \nThis will be a contactless food drive – simply pull up and volunteers will collect your donation. \nLearn more via Delaware Soccer Club’s event and Facebook page: https://www.facebook.com/events/1224572554560347/
URL:https://www.feedmorewny.org/event/delaware-soccer-club-contactless-food-drive/
LOCATION:Donate
END:VEVENT
BEGIN:VEVENT
DTSTART;TZID=America/New_York:20200530T100000
DTEND;TZID=America/New_York:20200530T130000
DTSTAMP:20260425T210854
CREATED:20200527T162702Z
LAST-MODIFIED:20200527T162702Z
UID:8230-1590832800-1590843600@www.feedmorewny.org
SUMMARY:Delaware Soccer Club Contactless Food Drive
DESCRIPTION:Saturday May 30th from 10:00-1:00\, Delaware Soccer Club will be collecting non-perishable goods at the DSC office located at 1424 Hertel Ave\, Buffalo\, New York 14216. \nThis will be a contactless food drive – simply pull up and volunteers will collect your donation. \nLearn more via Delaware Soccer Club’s event and Facebook page: https://www.facebook.com/events/1224572554560347/
URL:https://www.feedmorewny.org/event/delaware-soccer-club-contactless-food-drive-2/
LOCATION:Donate
END:VEVENT
BEGIN:VEVENT
DTSTART;TZID=America/New_York:20200530T100000
DTEND;TZID=America/New_York:20200530T140000
DTSTAMP:20260425T210854
CREATED:20200519T144159Z
LAST-MODIFIED:20200519T144159Z
UID:8179-1590832800-1590847200@www.feedmorewny.org
SUMMARY:Peanut Butter Drive - Tops Friendly Markets Lockport
DESCRIPTION:Volunteers will be collecting peanut butter at five Western New York locations on Saturday\, May 30\, 2020. Each location will be a “contactless food drive.” Simply pull up to the volunteers\, and they will collect your donation from your vehicle. \nAlternate locations and times for SATURDAY\, MAY 30\, 2020 from 10:00 a.m. to 2:00 p.m. \n\nAurora Village Shopping Center\n123 Grey St\, East Aurora\, NY\nChautauqua Mall (near JCPenney)\n318 E Fairmount Ave\, Lakewood\, NY\nKleinhans Music Hall\n3 Symphony Cir\, Buffalo\, NY\nNOCO Tonawanda\n2440 Sheridan Dr\, Tonawanda\, NY\nTops Friendly Markets\n5827 S Transit Rd\, Lockport\, NY\n\nThank you for your support of FeedMore WNY!
URL:https://www.feedmorewny.org/event/peanut-butter-drive-tops-friendly-markets-lockport/
END:VEVENT
BEGIN:VEVENT
DTSTART;TZID=America/New_York:20200530T100000
DTEND;TZID=America/New_York:20200530T140000
DTSTAMP:20260425T210854
CREATED:20200519T144159Z
LAST-MODIFIED:20200519T144159Z
UID:8225-1590832800-1590847200@www.feedmorewny.org
SUMMARY:Peanut Butter Drive - East Aurora
DESCRIPTION:Volunteers will be collecting peanut butter at five Western New York locations on Saturday\, May 30\, 2020. Each location will be a “contactless food drive.” Simply pull up to the volunteers\, and they will collect your donation from your vehicle. \nAlternate locations and times for SATURDAY\, MAY 30\, 2020 from 10:00 a.m. to 2:00 p.m. \n\nAurora Village Shopping Center\n123 Grey St\, East Aurora\, NY\nChautauqua Mall (near JCPenney)\n318 E Fairmount Ave\, Lakewood\, NY\nKleinhans Music Hall\n3 Symphony Cir\, Buffalo\, NY\nNOCO Tonawanda\n2440 Sheridan Dr\, Tonawanda\, NY\nTops Friendly Markets\n5827 S Transit Rd\, Lockport\, NY\n\nThank you for your support of FeedMore WNY!
URL:https://www.feedmorewny.org/event/peanut-butter-drive-east-aurora-2/
LOCATION:Donate
END:VEVENT
BEGIN:VEVENT
DTSTART;TZID=America/New_York:20200530T100000
DTEND;TZID=America/New_York:20200530T140000
DTSTAMP:20260425T210854
CREATED:20200519T144159Z
LAST-MODIFIED:20200519T144159Z
UID:8226-1590832800-1590847200@www.feedmorewny.org
SUMMARY:Peanut Butter Drive - Chautauqua Mall
DESCRIPTION:Volunteers will be collecting peanut butter at five Western New York locations on Saturday\, May 30\, 2020. Each location will be a “contactless food drive.” Simply pull up to the volunteers\, and they will collect your donation from your vehicle. \nAlternate locations and times for SATURDAY\, MAY 30\, 2020 from 10:00 a.m. to 2:00 p.m. \n\nAurora Village Shopping Center\n123 Grey St\, East Aurora\, NY\nChautauqua Mall (near JCPenney)\n318 E Fairmount Ave\, Lakewood\, NY\nKleinhans Music Hall\n3 Symphony Cir\, Buffalo\, NY\nNOCO Tonawanda\n2440 Sheridan Dr\, Tonawanda\, NY\nTops Friendly Markets\n5827 S Transit Rd\, Lockport\, NY\n\nThank you for your support of FeedMore WNY!
URL:https://www.feedmorewny.org/event/peanut-butter-drive-chautauqua-mall-2/
LOCATION:Donate
END:VEVENT
BEGIN:VEVENT
DTSTART;TZID=America/New_York:20200530T100000
DTEND;TZID=America/New_York:20200530T140000
DTSTAMP:20260425T210854
CREATED:20200519T144159Z
LAST-MODIFIED:20200519T144159Z
UID:8227-1590832800-1590847200@www.feedmorewny.org
SUMMARY:Peanut Butter Drive - Kleinhans Music Hall
DESCRIPTION:Volunteers will be collecting peanut butter at five Western New York locations on Saturday\, May 30\, 2020. Each location will be a “contactless food drive.” Simply pull up to the volunteers\, and they will collect your donation from your vehicle. \nAlternate locations and times for SATURDAY\, MAY 30\, 2020 from 10:00 a.m. to 2:00 p.m. \n\nAurora Village Shopping Center\n123 Grey St\, East Aurora\, NY\nChautauqua Mall (near JCPenney)\n318 E Fairmount Ave\, Lakewood\, NY\nKleinhans Music Hall\n3 Symphony Cir\, Buffalo\, NY\nNOCO Tonawanda\n2440 Sheridan Dr\, Tonawanda\, NY\nTops Friendly Markets\n5827 S Transit Rd\, Lockport\, NY\n\nThank you for your support of FeedMore WNY!
URL:https://www.feedmorewny.org/event/peanut-butter-drive-kleinhans-music-hall-2/
LOCATION:Donate
END:VEVENT
BEGIN:VEVENT
DTSTART;TZID=America/New_York:20200530T100000
DTEND;TZID=America/New_York:20200530T140000
DTSTAMP:20260425T210854
CREATED:20200519T144159Z
LAST-MODIFIED:20200519T144159Z
UID:8171-1590832800-1590847200@www.feedmorewny.org
SUMMARY:Peanut Butter Drive - East Aurora
DESCRIPTION:Volunteers will be collecting peanut butter at five Western New York locations on Saturday\, May 30\, 2020. Each location will be a “contactless food drive.” Simply pull up to the volunteers\, and they will collect your donation from your vehicle. \nAlternate locations and times for SATURDAY\, MAY 30\, 2020 from 10:00 a.m. to 2:00 p.m. \n\nAurora Village Shopping Center\n123 Grey St\, East Aurora\, NY\nChautauqua Mall (near JCPenney)\n318 E Fairmount Ave\, Lakewood\, NY\nKleinhans Music Hall\n3 Symphony Cir\, Buffalo\, NY\nNOCO Tonawanda\n2440 Sheridan Dr\, Tonawanda\, NY\nTops Friendly Markets\n5827 S Transit Rd\, Lockport\, NY\n\nThank you for your support of FeedMore WNY!
URL:https://www.feedmorewny.org/event/peanut-butter-drive-east-aurora/
LOCATION:Donate
END:VEVENT
BEGIN:VEVENT
DTSTART;TZID=America/New_York:20200530T100000
DTEND;TZID=America/New_York:20200530T140000
DTSTAMP:20260425T210854
CREATED:20200519T144159Z
LAST-MODIFIED:20200519T144159Z
UID:8228-1590832800-1590847200@www.feedmorewny.org
SUMMARY:Peanut Butter Drive - Tonawanda (NOCO Building)
DESCRIPTION:Volunteers will be collecting peanut butter at five Western New York locations on Saturday\, May 30\, 2020. Each location will be a “contactless food drive.” Simply pull up to the volunteers\, and they will collect your donation from your vehicle. \nAlternate locations and times for SATURDAY\, MAY 30\, 2020 from 10:00 a.m. to 2:00 p.m. \n\nAurora Village Shopping Center\n123 Grey St\, East Aurora\, NY\nChautauqua Mall (near JCPenney)\n318 E Fairmount Ave\, Lakewood\, NY\nKleinhans Music Hall\n3 Symphony Cir\, Buffalo\, NY\nNOCO Tonawanda\n2440 Sheridan Dr\, Tonawanda\, NY\nTops Friendly Markets\n5827 S Transit Rd\, Lockport\, NY\n\nThank you for your support of FeedMore WNY!
URL:https://www.feedmorewny.org/event/peanut-butter-drive-tonawanda-noco-building-2/
LOCATION:Donate
END:VEVENT
BEGIN:VEVENT
DTSTART;TZID=America/New_York:20200530T100000
DTEND;TZID=America/New_York:20200530T140000
DTSTAMP:20260425T210854
CREATED:20200519T144159Z
LAST-MODIFIED:20200519T144159Z
UID:8173-1590832800-1590847200@www.feedmorewny.org
SUMMARY:Peanut Butter Drive - Chautauqua Mall
DESCRIPTION:Volunteers will be collecting peanut butter at five Western New York locations on Saturday\, May 30\, 2020. Each location will be a “contactless food drive.” Simply pull up to the volunteers\, and they will collect your donation from your vehicle. \nAlternate locations and times for SATURDAY\, MAY 30\, 2020 from 10:00 a.m. to 2:00 p.m. \n\nAurora Village Shopping Center\n123 Grey St\, East Aurora\, NY\nChautauqua Mall (near JCPenney)\n318 E Fairmount Ave\, Lakewood\, NY\nKleinhans Music Hall\n3 Symphony Cir\, Buffalo\, NY\nNOCO Tonawanda\n2440 Sheridan Dr\, Tonawanda\, NY\nTops Friendly Markets\n5827 S Transit Rd\, Lockport\, NY\n\nThank you for your support of FeedMore WNY!
URL:https://www.feedmorewny.org/event/peanut-butter-drive-chautauqua-mall/
LOCATION:Donate
END:VEVENT
BEGIN:VEVENT
DTSTART;TZID=America/New_York:20200530T100000
DTEND;TZID=America/New_York:20200530T140000
DTSTAMP:20260425T210854
CREATED:20200519T144159Z
LAST-MODIFIED:20200519T144159Z
UID:8229-1590832800-1590847200@www.feedmorewny.org
SUMMARY:Peanut Butter Drive - Tops Friendly Markets Lockport
DESCRIPTION:Volunteers will be collecting peanut butter at five Western New York locations on Saturday\, May 30\, 2020. Each location will be a “contactless food drive.” Simply pull up to the volunteers\, and they will collect your donation from your vehicle. \nAlternate locations and times for SATURDAY\, MAY 30\, 2020 from 10:00 a.m. to 2:00 p.m. \n\nAurora Village Shopping Center\n123 Grey St\, East Aurora\, NY\nChautauqua Mall (near JCPenney)\n318 E Fairmount Ave\, Lakewood\, NY\nKleinhans Music Hall\n3 Symphony Cir\, Buffalo\, NY\nNOCO Tonawanda\n2440 Sheridan Dr\, Tonawanda\, NY\nTops Friendly Markets\n5827 S Transit Rd\, Lockport\, NY\n\nThank you for your support of FeedMore WNY!
URL:https://www.feedmorewny.org/event/peanut-butter-drive-tops-friendly-markets-lockport-2/
END:VEVENT
BEGIN:VEVENT
DTSTART;TZID=America/New_York:20200530T100000
DTEND;TZID=America/New_York:20200530T140000
DTSTAMP:20260425T210854
CREATED:20200519T144159Z
LAST-MODIFIED:20200519T144159Z
UID:8175-1590832800-1590847200@www.feedmorewny.org
SUMMARY:Peanut Butter Drive - Kleinhans Music Hall
DESCRIPTION:Volunteers will be collecting peanut butter at five Western New York locations on Saturday\, May 30\, 2020. Each location will be a “contactless food drive.” Simply pull up to the volunteers\, and they will collect your donation from your vehicle. \nAlternate locations and times for SATURDAY\, MAY 30\, 2020 from 10:00 a.m. to 2:00 p.m. \n\nAurora Village Shopping Center\n123 Grey St\, East Aurora\, NY\nChautauqua Mall (near JCPenney)\n318 E Fairmount Ave\, Lakewood\, NY\nKleinhans Music Hall\n3 Symphony Cir\, Buffalo\, NY\nNOCO Tonawanda\n2440 Sheridan Dr\, Tonawanda\, NY\nTops Friendly Markets\n5827 S Transit Rd\, Lockport\, NY\n\nThank you for your support of FeedMore WNY!
URL:https://www.feedmorewny.org/event/peanut-butter-drive-kleinhans-music-hall/
LOCATION:Donate
END:VEVENT
BEGIN:VEVENT
DTSTART;TZID=America/New_York:20200530T100000
DTEND;TZID=America/New_York:20200530T140000
DTSTAMP:20260425T210854
CREATED:20200519T144159Z
LAST-MODIFIED:20200519T144159Z
UID:8177-1590832800-1590847200@www.feedmorewny.org
SUMMARY:Peanut Butter Drive - Tonawanda (NOCO Building)
DESCRIPTION:Volunteers will be collecting peanut butter at five Western New York locations on Saturday\, May 30\, 2020. Each location will be a “contactless food drive.” Simply pull up to the volunteers\, and they will collect your donation from your vehicle. \nAlternate locations and times for SATURDAY\, MAY 30\, 2020 from 10:00 a.m. to 2:00 p.m. \n\nAurora Village Shopping Center\n123 Grey St\, East Aurora\, NY\nChautauqua Mall (near JCPenney)\n318 E Fairmount Ave\, Lakewood\, NY\nKleinhans Music Hall\n3 Symphony Cir\, Buffalo\, NY\nNOCO Tonawanda\n2440 Sheridan Dr\, Tonawanda\, NY\nTops Friendly Markets\n5827 S Transit Rd\, Lockport\, NY\n\nThank you for your support of FeedMore WNY!
URL:https://www.feedmorewny.org/event/peanut-butter-drive-tonawanda-noco-building/
LOCATION:Donate
END:VEVENT
END:VCALENDAR