BEGIN:VCALENDAR
VERSION:2.0
PRODID:-//FeedMore WNY - ECPv6.4.0//NONSGML v1.0//EN
CALSCALE:GREGORIAN
METHOD:PUBLISH
X-ORIGINAL-URL:https://www.feedmorewny.org
X-WR-CALDESC:Events for FeedMore WNY
REFRESH-INTERVAL;VALUE=DURATION:PT1H
X-Robots-Tag:noindex
X-PUBLISHED-TTL:PT1H
BEGIN:VTIMEZONE
TZID:America/New_York
BEGIN:DAYLIGHT
TZOFFSETFROM:-0500
TZOFFSETTO:-0400
TZNAME:EDT
DTSTART:20190310T070000
END:DAYLIGHT
BEGIN:STANDARD
TZOFFSETFROM:-0400
TZOFFSETTO:-0500
TZNAME:EST
DTSTART:20191103T060000
END:STANDARD
BEGIN:DAYLIGHT
TZOFFSETFROM:-0500
TZOFFSETTO:-0400
TZNAME:EDT
DTSTART:20200308T070000
END:DAYLIGHT
BEGIN:STANDARD
TZOFFSETFROM:-0400
TZOFFSETTO:-0500
TZNAME:EST
DTSTART:20201101T060000
END:STANDARD
END:VTIMEZONE
BEGIN:VEVENT
DTSTART;VALUE=DATE:20191001
DTEND;VALUE=DATE:20200601
DTSTAMP:20260424T201008
CREATED:20200305T161440Z
LAST-MODIFIED:20200305T161440Z
UID:8134-1569888000-1590969599@www.feedmorewny.org
SUMMARY:Check Out Hunger 2020
DESCRIPTION:For a donation of $2\, $3 or $5 at the checkout of participating retailers\, you can help us provide food for those in need. The proceeds from this annual campaign fund FeedMore WNY’s ongoing programs and services.\n[fusion_button link=”https://www.foodbankwny.org/check-out-hunger/” text_transform=”none” title=”” target=”_self” link_attributes=”” alignment=”” modal=”” hide_on_mobile=”small-visibility\,medium-visibility\,large-visibility” class=”” id=”” color=”default” button_gradient_top_color=”” button_gradient_bottom_color=”” button_gradient_top_color_hover=”” button_gradient_bottom_color_hover=”” accent_color=”” accent_hover_color=”” type=”” bevel_color=”” border_width=”” size=”xlarge” stretch=”default” shape=”” icon=”” icon_position=”left” icon_divider=”no” animation_type=”” animation_direction=”left” animation_speed=”0.3″ animation_offset=””]Click here to see all participating Check Out hunger locations![/fusion_button] \nThank you to all of the participating retailers supporting our programs through this year’s campaign!
URL:https://www.feedmorewny.org/event/check-out-hunger-2020/
END:VEVENT
BEGIN:VEVENT
DTSTART;VALUE=DATE:20191001
DTEND;VALUE=DATE:20200601
DTSTAMP:20260424T201008
CREATED:20200305T161440Z
LAST-MODIFIED:20200305T161440Z
UID:8199-1569888000-1590969599@www.feedmorewny.org
SUMMARY:Check Out Hunger 2020
DESCRIPTION:For a donation of $2\, $3 or $5 at the checkout of participating retailers\, you can help us provide food for those in need. The proceeds from this annual campaign fund FeedMore WNY’s ongoing programs and services.\n[fusion_button link=”https://www.foodbankwny.org/check-out-hunger/” text_transform=”none” title=”” target=”_self” link_attributes=”” alignment=”” modal=”” hide_on_mobile=”small-visibility\,medium-visibility\,large-visibility” class=”” id=”” color=”default” button_gradient_top_color=”” button_gradient_bottom_color=”” button_gradient_top_color_hover=”” button_gradient_bottom_color_hover=”” accent_color=”” accent_hover_color=”” type=”” bevel_color=”” border_width=”” size=”xlarge” stretch=”default” shape=”” icon=”” icon_position=”left” icon_divider=”no” animation_type=”” animation_direction=”left” animation_speed=”0.3″ animation_offset=””]Click here to see all participating Check Out hunger locations![/fusion_button] \nThank you to all of the participating retailers supporting our programs through this year’s campaign!
URL:https://www.feedmorewny.org/event/check-out-hunger-2020-2/
END:VEVENT
BEGIN:VEVENT
DTSTART;TZID=America/New_York:20200529T193000
DTEND;TZID=America/New_York:20200529T210000
DTSTAMP:20260424T201008
CREATED:20200527T163150Z
LAST-MODIFIED:20200527T163150Z
UID:8183-1590780600-1590786000@www.feedmorewny.org
SUMMARY:Quarantine Stories by Post-Industrial Productions (virtual event benefiting FeedMore WNY)
DESCRIPTION:Post-Industrial Productions is proud to introduce Quarantine Stories\, a virtual evening of new spoken word stories\, poems\, or monologues created by the Western New York community and curated by the Post-Industrial Productions team. Drawing upon both personal and community experiences of the COVID-19 pandemic\, Quarantine Stories invites anyone in WNY to express their thoughts\, feelings\, frustrations\, and struggles through the submission of a 2-4 minute “story” (roughly 500 word limit) that comments upon this challenging time. These “stories” will then be performed by local actors for a virtual audience\, both to ensure privacy for anonymous entries and to establish a degree of separation for potentially traumatic experiences. \nQuarantine Stories seeks to give a voice to people who are suffering due to social distancing/quarantine orders\, and to foster a sense of solidarity during this time of isolation by helping people understand they are not suffering alone Each livestream event will help bring awareness to a WNY nonprofit or charity helping our community during this time. A donation button will be placed prominently in the viewing window during the event\, and audience members will be encouraged to make a donation to benefit the participating organization. \nThe inaugural Quarantine Stories event will take place on Friday\, May 29th at 7:30pm on Facebook Live\, with all proceeds raised to benefit FeedMore WNY. \nLearn more at: https://www.facebook.com/PostIndustrialProductions/
URL:https://www.feedmorewny.org/event/quarantine-stories-by-post-industrial-productions-virtual-event-benefiting-feedmore-wny/
END:VEVENT
BEGIN:VEVENT
DTSTART;TZID=America/New_York:20200529T193000
DTEND;TZID=America/New_York:20200529T210000
DTSTAMP:20260424T201008
CREATED:20200527T163150Z
LAST-MODIFIED:20200527T163150Z
UID:8231-1590780600-1590786000@www.feedmorewny.org
SUMMARY:Quarantine Stories by Post-Industrial Productions (virtual event benefiting FeedMore WNY)
DESCRIPTION:Post-Industrial Productions is proud to introduce Quarantine Stories\, a virtual evening of new spoken word stories\, poems\, or monologues created by the Western New York community and curated by the Post-Industrial Productions team. Drawing upon both personal and community experiences of the COVID-19 pandemic\, Quarantine Stories invites anyone in WNY to express their thoughts\, feelings\, frustrations\, and struggles through the submission of a 2-4 minute “story” (roughly 500 word limit) that comments upon this challenging time. These “stories” will then be performed by local actors for a virtual audience\, both to ensure privacy for anonymous entries and to establish a degree of separation for potentially traumatic experiences. \nQuarantine Stories seeks to give a voice to people who are suffering due to social distancing/quarantine orders\, and to foster a sense of solidarity during this time of isolation by helping people understand they are not suffering alone Each livestream event will help bring awareness to a WNY nonprofit or charity helping our community during this time. A donation button will be placed prominently in the viewing window during the event\, and audience members will be encouraged to make a donation to benefit the participating organization. \nThe inaugural Quarantine Stories event will take place on Friday\, May 29th at 7:30pm on Facebook Live\, with all proceeds raised to benefit FeedMore WNY. \nLearn more at: https://www.facebook.com/PostIndustrialProductions/
URL:https://www.feedmorewny.org/event/quarantine-stories-by-post-industrial-productions-virtual-event-benefiting-feedmore-wny-2/
END:VEVENT
END:VCALENDAR