BEGIN:VCALENDAR
VERSION:2.0
PRODID:-//FeedMore WNY - ECPv6.4.0//NONSGML v1.0//EN
CALSCALE:GREGORIAN
METHOD:PUBLISH
X-ORIGINAL-URL:https://www.feedmorewny.org
X-WR-CALDESC:Events for FeedMore WNY
REFRESH-INTERVAL;VALUE=DURATION:PT1H
X-Robots-Tag:noindex
X-PUBLISHED-TTL:PT1H
BEGIN:VTIMEZONE
TZID:America/New_York
BEGIN:DAYLIGHT
TZOFFSETFROM:-0500
TZOFFSETTO:-0400
TZNAME:EDT
DTSTART:20190310T070000
END:DAYLIGHT
BEGIN:STANDARD
TZOFFSETFROM:-0400
TZOFFSETTO:-0500
TZNAME:EST
DTSTART:20191103T060000
END:STANDARD
BEGIN:DAYLIGHT
TZOFFSETFROM:-0500
TZOFFSETTO:-0400
TZNAME:EDT
DTSTART:20200308T070000
END:DAYLIGHT
BEGIN:STANDARD
TZOFFSETFROM:-0400
TZOFFSETTO:-0500
TZNAME:EST
DTSTART:20201101T060000
END:STANDARD
TZID:UTC
BEGIN:STANDARD
TZOFFSETFROM:+0000
TZOFFSETTO:+0000
TZNAME:UTC
DTSTART:20190101T000000
END:STANDARD
END:VTIMEZONE
BEGIN:VEVENT
DTSTART;VALUE=DATE:20191001
DTEND;VALUE=DATE:20200601
DTSTAMP:20260424T120859
CREATED:20200305T161440Z
LAST-MODIFIED:20200305T161440Z
UID:8134-1569888000-1590969599@www.feedmorewny.org
SUMMARY:Check Out Hunger 2020
DESCRIPTION:For a donation of $2\, $3 or $5 at the checkout of participating retailers\, you can help us provide food for those in need. The proceeds from this annual campaign fund FeedMore WNY’s ongoing programs and services.\n[fusion_button link=”https://www.foodbankwny.org/check-out-hunger/” text_transform=”none” title=”” target=”_self” link_attributes=”” alignment=”” modal=”” hide_on_mobile=”small-visibility\,medium-visibility\,large-visibility” class=”” id=”” color=”default” button_gradient_top_color=”” button_gradient_bottom_color=”” button_gradient_top_color_hover=”” button_gradient_bottom_color_hover=”” accent_color=”” accent_hover_color=”” type=”” bevel_color=”” border_width=”” size=”xlarge” stretch=”default” shape=”” icon=”” icon_position=”left” icon_divider=”no” animation_type=”” animation_direction=”left” animation_speed=”0.3″ animation_offset=””]Click here to see all participating Check Out hunger locations![/fusion_button] \nThank you to all of the participating retailers supporting our programs through this year’s campaign!
URL:https://www.feedmorewny.org/event/check-out-hunger-2020/
END:VEVENT
BEGIN:VEVENT
DTSTART;VALUE=DATE:20191001
DTEND;VALUE=DATE:20200601
DTSTAMP:20260424T120859
CREATED:20200305T161440Z
LAST-MODIFIED:20200305T161440Z
UID:8199-1569888000-1590969599@www.feedmorewny.org
SUMMARY:Check Out Hunger 2020
DESCRIPTION:For a donation of $2\, $3 or $5 at the checkout of participating retailers\, you can help us provide food for those in need. The proceeds from this annual campaign fund FeedMore WNY’s ongoing programs and services.\n[fusion_button link=”https://www.foodbankwny.org/check-out-hunger/” text_transform=”none” title=”” target=”_self” link_attributes=”” alignment=”” modal=”” hide_on_mobile=”small-visibility\,medium-visibility\,large-visibility” class=”” id=”” color=”default” button_gradient_top_color=”” button_gradient_bottom_color=”” button_gradient_top_color_hover=”” button_gradient_bottom_color_hover=”” accent_color=”” accent_hover_color=”” type=”” bevel_color=”” border_width=”” size=”xlarge” stretch=”default” shape=”” icon=”” icon_position=”left” icon_divider=”no” animation_type=”” animation_direction=”left” animation_speed=”0.3″ animation_offset=””]Click here to see all participating Check Out hunger locations![/fusion_button] \nThank you to all of the participating retailers supporting our programs through this year’s campaign!
URL:https://www.feedmorewny.org/event/check-out-hunger-2020-2/
END:VEVENT
BEGIN:VEVENT
DTSTART;VALUE=DATE:20191020
DTEND;VALUE=DATE:20200301
DTSTAMP:20260424T120859
CREATED:20191001T161801Z
LAST-MODIFIED:20191001T161801Z
UID:8091-1571529600-1583020799@www.feedmorewny.org
SUMMARY:Check Out Hunger 2019
DESCRIPTION:For a donation of $2\, $3 or $5 at the checkout of participating retailers\, you can help us provide food for those in need. The proceeds from this annual campaign fund FeedMore WNY’s ongoing programs and services. \nUpcoming “Check Out Hunger” Retailers\n\n PriceRite – October 20\, 2019 through December 28\, 2019\n\n1716 Kenmore Ave\, Buffalo\, NY 14216\n250 Elmwood St\, Buffalo\, NY 14222\n1700-1750 Walden Ave\, Cheektowaga\, NY 14225\n4224 Maple Road\, Amherst\, NY 14226
URL:https://www.feedmorewny.org/event/check-out-hunger-2019/
END:VEVENT
BEGIN:VEVENT
DTSTART;VALUE=DATE:20191020
DTEND;VALUE=DATE:20200301
DTSTAMP:20260424T120859
CREATED:20191001T161801Z
LAST-MODIFIED:20191001T161801Z
UID:8157-1571529600-1583020799@www.feedmorewny.org
SUMMARY:Check Out Hunger 2019
DESCRIPTION:For a donation of $2\, $3 or $5 at the checkout of participating retailers\, you can help us provide food for those in need. The proceeds from this annual campaign fund FeedMore WNY’s ongoing programs and services. \nUpcoming “Check Out Hunger” Retailers\n\n PriceRite – October 20\, 2019 through December 28\, 2019\n\n1716 Kenmore Ave\, Buffalo\, NY 14216\n250 Elmwood St\, Buffalo\, NY 14222\n1700-1750 Walden Ave\, Cheektowaga\, NY 14225\n4224 Maple Road\, Amherst\, NY 14226
URL:https://www.feedmorewny.org/event/check-out-hunger-2019-2/
END:VEVENT
BEGIN:VEVENT
DTSTART;VALUE=DATE:20191114
DTEND;VALUE=DATE:20200103
DTSTAMP:20260424T120859
CREATED:20191217T190831Z
LAST-MODIFIED:20191217T190831Z
UID:8116-1573689600-1578009599@www.feedmorewny.org
SUMMARY:Share the Love at West Herr Subaru
DESCRIPTION:West Herr Subaru has selected our Meals on Wheels program as one of the local beneficiaries of this year-end event! With every vehicle sold or leased now through January 2\, 2020\, Subaru of America\, Inc. will donate $250 to a designated local or national charity. If you’re shopping for a car this holiday season\, consider supporting our organization through Share The Love! \nLearn more: https://www.westherrsubaru.com/share-the-love.htm
URL:https://www.feedmorewny.org/event/share-the-love-at-west-herr-subaru/
LOCATION:Kitchen Sink
END:VEVENT
BEGIN:VEVENT
DTSTART;VALUE=DATE:20191114
DTEND;VALUE=DATE:20200103
DTSTAMP:20260424T120859
CREATED:20191217T190831Z
LAST-MODIFIED:20191217T190831Z
UID:8180-1573689600-1578009599@www.feedmorewny.org
SUMMARY:Share the Love at West Herr Subaru
DESCRIPTION:West Herr Subaru has selected our Meals on Wheels program as one of the local beneficiaries of this year-end event! With every vehicle sold or leased now through January 2\, 2020\, Subaru of America\, Inc. will donate $250 to a designated local or national charity. If you’re shopping for a car this holiday season\, consider supporting our organization through Share The Love! \nLearn more: https://www.westherrsubaru.com/share-the-love.htm
URL:https://www.feedmorewny.org/event/share-the-love-at-west-herr-subaru-2/
LOCATION:Kitchen Sink
END:VEVENT
BEGIN:VEVENT
DTSTART;VALUE=DATE:20191207
DTEND;VALUE=DATE:20191218
DTSTAMP:20260424T120859
CREATED:20191211T192636Z
LAST-MODIFIED:20191211T192636Z
UID:8178-1575676800-1576627199@www.feedmorewny.org
SUMMARY:"Fill the Sleigh" Food Drive at Adams Nursery & Garden Center
DESCRIPTION:Now through December 15\, Adams Nursery & Garden Center is holding a food drive to benefit FeedMore WNY! \nAdams Nursery & Garden Center is collecting peanut butter\, canned goods\, pasta\, rice or boxed mac and cheese. Bring one of these non-perishable food items to the nursery and receive 15% off one regular priced item! (This offer is not valid on live trees\, wreaths\, boughs.) \nThank you to Adams Nursery for supporting our Food Bank program!
URL:https://www.feedmorewny.org/event/fill-the-sleigh-food-drive-at-adams-nursery-garden-center-2/
END:VEVENT
BEGIN:VEVENT
DTSTART;VALUE=DATE:20191213
DTEND;VALUE=DATE:20191224
DTSTAMP:20260424T120859
CREATED:20191008T124936Z
LAST-MODIFIED:20191008T124936Z
UID:8097-1576195200-1577145599@www.feedmorewny.org
SUMMARY:Canstruction at the Fairgrounds Festival of Lights
DESCRIPTION:Join us for this year’s “Canstruction” building contest at the Erie County Fairgrounds! This year’s theme is “Winter Holiday Movies!” \nBuilding: Teams will have 12 hours to build their displays out of canned goods\, using a series of four hour shifts from 5-9pm on December 13\, 14 & 15\, 2019. \nJudging: A selected panel of judges will determine their favorites in each category on December 16 or 17\, 2019. The public are invited to vote for their favorite Canstruction display from December 13-23 (during Festival of Lights hours). \n“Decanstruction” will take place on December 27. \nRegister and learn more at http://www.the-fairgrounds.com/festival-lights/what-do/holiday-contests/ \n 
URL:https://www.feedmorewny.org/event/canstruction-2019/
LOCATION:Hunger and Hope Tour – January 8\, 2019
END:VEVENT
BEGIN:VEVENT
DTSTART;VALUE=DATE:20191213
DTEND;VALUE=DATE:20191224
DTSTAMP:20260424T120859
CREATED:20191008T124936Z
LAST-MODIFIED:20191008T124936Z
UID:8163-1576195200-1577145599@www.feedmorewny.org
SUMMARY:Canstruction at the Fairgrounds Festival of Lights
DESCRIPTION:Join us for this year’s “Canstruction” building contest at the Erie County Fairgrounds! This year’s theme is “Winter Holiday Movies!” \nBuilding: Teams will have 12 hours to build their displays out of canned goods\, using a series of four hour shifts from 5-9pm on December 13\, 14 & 15\, 2019. \nJudging: A selected panel of judges will determine their favorites in each category on December 16 or 17\, 2019. The public are invited to vote for their favorite Canstruction display from December 13-23 (during Festival of Lights hours). \n“Decanstruction” will take place on December 27. \nRegister and learn more at http://www.the-fairgrounds.com/festival-lights/what-do/holiday-contests/ \n 
URL:https://www.feedmorewny.org/event/canstruction-2019-2/
LOCATION:Hunger and Hope Tour – January 8\, 2019
END:VEVENT
END:VCALENDAR