BEGIN:VCALENDAR
VERSION:2.0
PRODID:-//FeedMore WNY - ECPv6.4.0//NONSGML v1.0//EN
CALSCALE:GREGORIAN
METHOD:PUBLISH
X-ORIGINAL-URL:https://www.feedmorewny.org
X-WR-CALDESC:Events for FeedMore WNY
REFRESH-INTERVAL;VALUE=DURATION:PT1H
X-Robots-Tag:noindex
X-PUBLISHED-TTL:PT1H
BEGIN:VTIMEZONE
TZID:America/New_York
BEGIN:DAYLIGHT
TZOFFSETFROM:-0500
TZOFFSETTO:-0400
TZNAME:EDT
DTSTART:20190310T070000
END:DAYLIGHT
BEGIN:STANDARD
TZOFFSETFROM:-0400
TZOFFSETTO:-0500
TZNAME:EST
DTSTART:20191103T060000
END:STANDARD
END:VTIMEZONE
BEGIN:VEVENT
DTSTART;TZID=America/New_York:20190817T103000
DTEND;TZID=America/New_York:20190817T120000
DTSTAMP:20260424T113120
CREATED:20190627T133808Z
LAST-MODIFIED:20190627T133808Z
UID:8073-1566037800-1566043200@www.feedmorewny.org
SUMMARY:Free Community Garden Workshop: "Harvesting and using your bounty"
DESCRIPTION:Join us at this free community garden workshop! We’ll be talking about harvesting the vegetables in your garden\, how to use them in cooking\, and how to store fruits and vegetables. \nThese events are free to the public. All experience levels welcome!
URL:https://www.feedmorewny.org/event/free-community-garden-workshop-august2019/
END:VEVENT
BEGIN:VEVENT
DTSTART;TZID=America/New_York:20190817T103000
DTEND;TZID=America/New_York:20190817T120000
DTSTAMP:20260424T113120
CREATED:20190627T133808Z
LAST-MODIFIED:20190627T133808Z
UID:8141-1566037800-1566043200@www.feedmorewny.org
SUMMARY:Free Community Garden Workshop: "Harvesting and using your bounty"
DESCRIPTION:Join us at this free community garden workshop! We’ll be talking about harvesting the vegetables in your garden\, how to use them in cooking\, and how to store fruits and vegetables. \nThese events are free to the public. All experience levels welcome!
URL:https://www.feedmorewny.org/event/free-community-garden-workshop-august2019-2/
END:VEVENT
END:VCALENDAR