BEGIN:VCALENDAR
VERSION:2.0
PRODID:-//FeedMore WNY - ECPv6.4.0//NONSGML v1.0//EN
CALSCALE:GREGORIAN
METHOD:PUBLISH
X-ORIGINAL-URL:https://www.feedmorewny.org
X-WR-CALDESC:Events for FeedMore WNY
REFRESH-INTERVAL;VALUE=DURATION:PT1H
X-Robots-Tag:noindex
X-PUBLISHED-TTL:PT1H
BEGIN:VTIMEZONE
TZID:UTC
BEGIN:STANDARD
TZOFFSETFROM:+0000
TZOFFSETTO:+0000
TZNAME:UTC
DTSTART:20190101T000000
END:STANDARD
END:VTIMEZONE
BEGIN:VEVENT
DTSTART;TZID=UTC:20190804T060000
DTEND;TZID=UTC:20190804T071500
DTSTAMP:20260426T021933
CREATED:20180628T183852Z
LAST-MODIFIED:20180628T183852Z
UID:7999-1564898400-1564902900@www.feedmorewny.org
SUMMARY:Run 716
DESCRIPTION:Come join us for the 3rd annual Run716 at Buffalo’s Larkinville district!\nGet ready to bustle through Buffalo for this 15k race and relay happening in the historic Larkinville district. \nEnjoy an event filled with live music all day and have a blast with the post-event party at Flying Bison Brewery. \nPre-registration events on Saturday will showcase the first of two parties on this energetic weekend and give you a look into the historic scenery of Buffalo at Flying Bison Brewery. Stop by between 11 a.m. to 7 p.m. to take part in the packet pick up party. \nThe Food Bank of WNY will be collecting non-perishable donations during  these pre-registration events! \nSunday’s post-event activities will not disappoint as the end of the race signifies the start of the second celebration. \nRace off hunger with Run716 as a portion of the proceeds raised will benefit FeedMore WNY and other community organizations. \nInterested in volunteering? Contact Cassie Barrett at (716) 935-6682 or cbarrett@foodbankwny.org  \nSign up now to bolt to the finish line at this Buffalo 15k!
URL:https://www.feedmorewny.org/event/run-716-2/
ATTACH;FMTTYPE=:
END:VEVENT
BEGIN:VEVENT
DTSTART;TZID=UTC:20190804T060000
DTEND;TZID=UTC:20190804T071500
DTSTAMP:20260426T021933
CREATED:20180628T183852Z
LAST-MODIFIED:20180628T183852Z
UID:8059-1564898400-1564902900@www.feedmorewny.org
SUMMARY:Run 716
DESCRIPTION:Come join us for the 3rd annual Run716 at Buffalo’s Larkinville district!\nGet ready to bustle through Buffalo for this 15k race and relay happening in the historic Larkinville district. \nEnjoy an event filled with live music all day and have a blast with the post-event party at Flying Bison Brewery. \nPre-registration events on Saturday will showcase the first of two parties on this energetic weekend and give you a look into the historic scenery of Buffalo at Flying Bison Brewery. Stop by between 11 a.m. to 7 p.m. to take part in the packet pick up party. \nThe Food Bank of WNY will be collecting non-perishable donations during  these pre-registration events! \nSunday’s post-event activities will not disappoint as the end of the race signifies the start of the second celebration. \nRace off hunger with Run716 as a portion of the proceeds raised will benefit FeedMore WNY and other community organizations. \nInterested in volunteering? Contact Cassie Barrett at (716) 935-6682 or cbarrett@foodbankwny.org  \nSign up now to bolt to the finish line at this Buffalo 15k!
URL:https://www.feedmorewny.org/event/run-716-2-2/
ATTACH;FMTTYPE=:
END:VEVENT
END:VCALENDAR