BEGIN:VCALENDAR
VERSION:2.0
PRODID:-//FeedMore WNY - ECPv6.4.0//NONSGML v1.0//EN
CALSCALE:GREGORIAN
METHOD:PUBLISH
X-WR-CALNAME:FeedMore WNY
X-ORIGINAL-URL:https://www.feedmorewny.org
X-WR-CALDESC:Events for FeedMore WNY
REFRESH-INTERVAL;VALUE=DURATION:PT1H
X-Robots-Tag:noindex
X-PUBLISHED-TTL:PT1H
BEGIN:VTIMEZONE
TZID:UTC
BEGIN:STANDARD
TZOFFSETFROM:+0000
TZOFFSETTO:+0000
TZNAME:UTC
DTSTART:20180101T000000
END:STANDARD
END:VTIMEZONE
BEGIN:VEVENT
DTSTART;VALUE=DATE:20181207
DTEND;VALUE=DATE:20181224
DTSTAMP:20260422T050632
CREATED:20180919T210815Z
LAST-MODIFIED:20180919T210815Z
UID:8006-1544140800-1545609599@www.feedmorewny.org
SUMMARY:Canstruction Competition
DESCRIPTION:During the Fairground Festival of Lights\, companies will get together for a unique team building opportunity! They will be building structures made entirely from canned goods!  All canned goods used in the creation of these masterpieces will be donated directly back to us and our member agencies. \nJoin in on the fun building or stop by and vote for your favorite! \nStop by the Fairgrounds Festival of Lights during the month of December to check out the amazing creations!
URL:https://www.feedmorewny.org/event/canstruction-competition/
LOCATION:Protected: Order – April 3\, 2019 @ 05:11 PM
END:VEVENT
BEGIN:VEVENT
DTSTART;VALUE=DATE:20181207
DTEND;VALUE=DATE:20181224
DTSTAMP:20260422T050632
CREATED:20180919T210815Z
LAST-MODIFIED:20180919T210815Z
UID:8075-1544140800-1545609599@www.feedmorewny.org
SUMMARY:Canstruction Competition
DESCRIPTION:During the Fairground Festival of Lights\, companies will get together for a unique team building opportunity! They will be building structures made entirely from canned goods!  All canned goods used in the creation of these masterpieces will be donated directly back to us and our member agencies. \nJoin in on the fun building or stop by and vote for your favorite! \nStop by the Fairgrounds Festival of Lights during the month of December to check out the amazing creations!
URL:https://www.feedmorewny.org/event/canstruction-competition-2/
LOCATION:Protected: Order – April 3\, 2019 @ 05:11 PM
END:VEVENT
BEGIN:VEVENT
DTSTART;TZID=UTC:20181217T110000
DTEND;TZID=UTC:20181221T130000
DTSTAMP:20260422T050632
CREATED:20181210T160642Z
LAST-MODIFIED:20181210T160642Z
UID:8038-1545044400-1545397200@www.feedmorewny.org
SUMMARY:Sounds of the Season
DESCRIPTION:
URL:https://www.feedmorewny.org/event/sounds-of-the-season/
END:VEVENT
BEGIN:VEVENT
DTSTART;TZID=UTC:20181217T110000
DTEND;TZID=UTC:20181221T130000
DTSTAMP:20260422T050632
CREATED:20181210T160642Z
LAST-MODIFIED:20181210T160642Z
UID:8110-1545044400-1545397200@www.feedmorewny.org
SUMMARY:Sounds of the Season
DESCRIPTION:
URL:https://www.feedmorewny.org/event/sounds-of-the-season-2/
END:VEVENT
BEGIN:VEVENT
DTSTART;TZID=UTC:20181220T183000
DTEND;TZID=UTC:20181220T223000
DTSTAMP:20260422T050632
CREATED:20181211T215208Z
LAST-MODIFIED:20181211T215208Z
UID:8040-1545330600-1545345000@www.feedmorewny.org
SUMMARY:Ugliest Sweater Party
DESCRIPTION:Tis the season to be tacky! Eat\, drink and raid your Grandma’s closest because it’s time for the Ugliest Sweater Party that Buffalo has ever seen. \nJoin us on Thursday\, December 20th at the Buffalo Marriott Niagara with an epic #ThrowbackThursday Ugliest Sweater Party with Buffalo’s wildest 80’s band\, NERDS GONE WILD in WNY. Relive your favorite scenes from the best Holiday movies\, take Christmas card photos\, find out if you’re on Santa’s nice or naughty list and so much more! Oh\, and be in the running for cash prizes for ugliest\, uglier and ugly sweaters. \nWe will be selling Sweet Charity tickets\, cash raffle tickets and will donate an all-access package for one lucky party goer!
URL:https://www.feedmorewny.org/event/ugliest-sweater-party/
LOCATION:Contact
END:VEVENT
BEGIN:VEVENT
DTSTART;TZID=UTC:20181220T183000
DTEND;TZID=UTC:20181220T223000
DTSTAMP:20260422T050632
CREATED:20181211T215208Z
LAST-MODIFIED:20181211T215208Z
UID:8112-1545330600-1545345000@www.feedmorewny.org
SUMMARY:Ugliest Sweater Party
DESCRIPTION:Tis the season to be tacky! Eat\, drink and raid your Grandma’s closest because it’s time for the Ugliest Sweater Party that Buffalo has ever seen. \nJoin us on Thursday\, December 20th at the Buffalo Marriott Niagara with an epic #ThrowbackThursday Ugliest Sweater Party with Buffalo’s wildest 80’s band\, NERDS GONE WILD in WNY. Relive your favorite scenes from the best Holiday movies\, take Christmas card photos\, find out if you’re on Santa’s nice or naughty list and so much more! Oh\, and be in the running for cash prizes for ugliest\, uglier and ugly sweaters. \nWe will be selling Sweet Charity tickets\, cash raffle tickets and will donate an all-access package for one lucky party goer!
URL:https://www.feedmorewny.org/event/ugliest-sweater-party-2/
LOCATION:Contact
END:VEVENT
END:VCALENDAR