BEGIN:VCALENDAR
VERSION:2.0
PRODID:-//FeedMore WNY - ECPv6.4.0//NONSGML v1.0//EN
CALSCALE:GREGORIAN
METHOD:PUBLISH
X-WR-CALNAME:FeedMore WNY
X-ORIGINAL-URL:https://www.feedmorewny.org
X-WR-CALDESC:Events for FeedMore WNY
REFRESH-INTERVAL;VALUE=DURATION:PT1H
X-Robots-Tag:noindex
X-PUBLISHED-TTL:PT1H
BEGIN:VTIMEZONE
TZID:UTC
BEGIN:STANDARD
TZOFFSETFROM:+0000
TZOFFSETTO:+0000
TZNAME:UTC
DTSTART:20180101T000000
END:STANDARD
END:VTIMEZONE
BEGIN:VEVENT
DTSTART;VALUE=DATE:20181101
DTEND;VALUE=DATE:20181201
DTSTAMP:20260422T011325
CREATED:20181026T154610Z
LAST-MODIFIED:20181026T154610Z
UID:8015-1541030400-1543622399@www.feedmorewny.org
SUMMARY:A Time For Giving
DESCRIPTION:With every bottle of New Chapter Vitamins purchased at Feel Rite stores\, one dollar will be donated directly to the Food Bank of WNY. Help fight hunger this November at our local Feel Rite stores.
URL:https://www.feedmorewny.org/event/a-time-for-giving/
END:VEVENT
BEGIN:VEVENT
DTSTART;VALUE=DATE:20181101
DTEND;VALUE=DATE:20181201
DTSTAMP:20260422T011325
CREATED:20181026T154610Z
LAST-MODIFIED:20181026T154610Z
UID:8088-1541030400-1543622399@www.feedmorewny.org
SUMMARY:A Time For Giving
DESCRIPTION:With every bottle of New Chapter Vitamins purchased at Feel Rite stores\, one dollar will be donated directly to the Food Bank of WNY. Help fight hunger this November at our local Feel Rite stores.
URL:https://www.feedmorewny.org/event/a-time-for-giving-2/
END:VEVENT
BEGIN:VEVENT
DTSTART;TZID=UTC:20181114T140000
DTEND;TZID=UTC:20181121T093000
DTSTAMP:20260422T011325
CREATED:20181002T194722Z
LAST-MODIFIED:20181002T194722Z
UID:8007-1542204000-1542792600@www.feedmorewny.org
SUMMARY:Rock Out Hunger 2018
DESCRIPTION:The 13th Annual Operation: Rock Out Hunger\, sponsored by 97 Rock\, Channel 7 Eyewitness News and Kaleida Health\, will be held from 2 p.m. Wednesday\, Nov. 14 through 10 a.m. Wednesday\, Nov. 21 in the Millard Fillmore Suburban Hospital parking lot\, 1540 Maple Road in Williamsville. \n97 Rock’s DJ Jickster will live on a Food Bank of WNY trailer for an entire week as he collects donations of frozen turkeys\, non-perishable food items and funds. Join us in our efforts to fight hunger by donating\, volunteering\, or stopping by to visit Jickster. \nCheck back for more information and upcoming volunteer opportunities!
URL:https://www.feedmorewny.org/event/4862/
LOCATION:Meals Express
END:VEVENT
BEGIN:VEVENT
DTSTART;TZID=UTC:20181114T140000
DTEND;TZID=UTC:20181121T093000
DTSTAMP:20260422T011325
CREATED:20181002T194722Z
LAST-MODIFIED:20181002T194722Z
UID:8077-1542204000-1542792600@www.feedmorewny.org
SUMMARY:Rock Out Hunger 2018
DESCRIPTION:The 13th Annual Operation: Rock Out Hunger\, sponsored by 97 Rock\, Channel 7 Eyewitness News and Kaleida Health\, will be held from 2 p.m. Wednesday\, Nov. 14 through 10 a.m. Wednesday\, Nov. 21 in the Millard Fillmore Suburban Hospital parking lot\, 1540 Maple Road in Williamsville. \n97 Rock’s DJ Jickster will live on a Food Bank of WNY trailer for an entire week as he collects donations of frozen turkeys\, non-perishable food items and funds. Join us in our efforts to fight hunger by donating\, volunteering\, or stopping by to visit Jickster. \nCheck back for more information and upcoming volunteer opportunities!
URL:https://www.feedmorewny.org/event/4862-2/
LOCATION:Meals Express
END:VEVENT
END:VCALENDAR