BEGIN:VCALENDAR
VERSION:2.0
PRODID:-//FeedMore WNY - ECPv6.4.0//NONSGML v1.0//EN
CALSCALE:GREGORIAN
METHOD:PUBLISH
X-WR-CALNAME:FeedMore WNY
X-ORIGINAL-URL:https://www.feedmorewny.org
X-WR-CALDESC:Events for FeedMore WNY
REFRESH-INTERVAL;VALUE=DURATION:PT1H
X-Robots-Tag:noindex
X-PUBLISHED-TTL:PT1H
BEGIN:VTIMEZONE
TZID:UTC
BEGIN:STANDARD
TZOFFSETFROM:+0000
TZOFFSETTO:+0000
TZNAME:UTC
DTSTART:20180101T000000
END:STANDARD
END:VTIMEZONE
BEGIN:VEVENT
DTSTART;TZID=UTC:20180603T000000
DTEND;TZID=UTC:20180617T235500
DTSTAMP:20260426T021835
CREATED:20180430T162823Z
LAST-MODIFIED:20180430T162823Z
UID:7997-1527984000-1529279700@www.feedmorewny.org
SUMMARY:Fill the BackPack
DESCRIPTION:Wegmans Food Markets\, News 4 WIVB-TV/CW23 WNLO and Fidelis Care are teaming up with the Food Bank of WNY for the 5th Annual Fill the BackPack Campaign to collect food for children in need. From June 3 – June 17\, Wegmans shoppers throughout the Food Bank’s four-county service area will be able to purchase prepackaged bags of food to support the BackPack Program\, which helps students who rely on free or reduced-price meals at school by providing them with take-home bags of food each Friday throughout the school year. 
URL:https://www.feedmorewny.org/event/fill-the-backpack-2/
END:VEVENT
BEGIN:VEVENT
DTSTART;TZID=UTC:20180603T000000
DTEND;TZID=UTC:20180617T235500
DTSTAMP:20260426T021835
CREATED:20180430T162823Z
LAST-MODIFIED:20180430T162823Z
UID:8055-1527984000-1529279700@www.feedmorewny.org
SUMMARY:Fill the BackPack
DESCRIPTION:Wegmans Food Markets\, News 4 WIVB-TV/CW23 WNLO and Fidelis Care are teaming up with the Food Bank of WNY for the 5th Annual Fill the BackPack Campaign to collect food for children in need. From June 3 – June 17\, Wegmans shoppers throughout the Food Bank’s four-county service area will be able to purchase prepackaged bags of food to support the BackPack Program\, which helps students who rely on free or reduced-price meals at school by providing them with take-home bags of food each Friday throughout the school year. 
URL:https://www.feedmorewny.org/event/fill-the-backpack-2-2/
END:VEVENT
END:VCALENDAR